BEGIN:VCALENDAR
VERSION:2.0
PRODID:-//The Dive On Patton - ECPv6.15.20//NONSGML v1.0//EN
CALSCALE:GREGORIAN
METHOD:PUBLISH
X-WR-CALNAME:The Dive On Patton
X-ORIGINAL-URL:https://thediveonpatton.com
X-WR-CALDESC:Events for The Dive On Patton
REFRESH-INTERVAL;VALUE=DURATION:PT1H
X-Robots-Tag:noindex
X-PUBLISHED-TTL:PT1H
BEGIN:VTIMEZONE
TZID:America/Chicago
BEGIN:DAYLIGHT
TZOFFSETFROM:-0600
TZOFFSETTO:-0500
TZNAME:CDT
DTSTART:20260308T080000
END:DAYLIGHT
BEGIN:STANDARD
TZOFFSETFROM:-0500
TZOFFSETTO:-0600
TZNAME:CST
DTSTART:20261101T070000
END:STANDARD
BEGIN:DAYLIGHT
TZOFFSETFROM:-0600
TZOFFSETTO:-0500
TZNAME:CDT
DTSTART:20270314T080000
END:DAYLIGHT
BEGIN:STANDARD
TZOFFSETFROM:-0500
TZOFFSETTO:-0600
TZNAME:CST
DTSTART:20271107T070000
END:STANDARD
BEGIN:DAYLIGHT
TZOFFSETFROM:-0600
TZOFFSETTO:-0500
TZNAME:CDT
DTSTART:20280312T080000
END:DAYLIGHT
BEGIN:STANDARD
TZOFFSETFROM:-0500
TZOFFSETTO:-0600
TZNAME:CST
DTSTART:20281105T070000
END:STANDARD
END:VTIMEZONE
BEGIN:VTIMEZONE
TZID:UTC
BEGIN:STANDARD
TZOFFSETFROM:+0000
TZOFFSETTO:+0000
TZNAME:UTC
DTSTART:20260101T000000
END:STANDARD
END:VTIMEZONE
BEGIN:VEVENT
DTSTART;TZID=America/Chicago:20270611T190000
DTEND;TZID=America/Chicago:20270611T210000
DTSTAMP:20260419T200949
CREATED:20240529T222242Z
LAST-MODIFIED:20240529T222242Z
UID:10003583-1812740400-1812747600@thediveonpatton.com
SUMMARY:FriYAY Bar Bingo!!!
DESCRIPTION:Every Friday is Extreme Bar Bingo\, and your chance to win cash and other prizes! We’ve also got our $6/$8/$10 Pitcher specials all night!
URL:https://thediveonpatton.com/event/friyay-bar-bingo/2027-06-11/
ATTACH;FMTTYPE=image/png:https://thediveonpatton.com/wp-content/uploads/2024/05/Untitled-design_20240529_172150_0000.png
END:VEVENT
BEGIN:VEVENT
DTSTART;TZID=UTC:20270612T220000
DTEND;TZID=UTC:20270613T010000
DTSTAMP:20260419T200949
CREATED:20240529T224607Z
LAST-MODIFIED:20240529T224734Z
UID:10003862-1812837600-1812848400@thediveonpatton.com
SUMMARY:SHOTurday Night and Karaoke!!!
DESCRIPTION:Saturday Nights is time to get singing\, and what better way to warm up those nerves that seltzer and shot specials! Then grace the DOP stage with your favorite rendition of one of your favorite songs!
URL:https://thediveonpatton.com/event/shoturday-night-and-karaoke/2027-06-12/
ATTACH;FMTTYPE=image/png:https://thediveonpatton.com/wp-content/uploads/2024/05/20240117_155829_0000.png
END:VEVENT
BEGIN:VEVENT
DTSTART;TZID=America/Chicago:20270616T180000
DTEND;TZID=America/Chicago:20270617T010000
DTSTAMP:20260419T200949
CREATED:20240124T221024Z
LAST-MODIFIED:20240529T214839Z
UID:10003319-1813168800-1813194000@thediveonpatton.com
SUMMARY:Well Wednesday and Vybes Night!
DESCRIPTION:Come out and enjoy $3 Wells All night\, and enjoy the awesome music of The Vybes! It’s also Jam Session\, so if you play guitar\, drums\, sing\, or whatever\, get up on stage and jam out with The Vybes!
URL:https://thediveonpatton.com/event/wellsday/2027-06-16/
ATTACH;FMTTYPE=image/png:https://thediveonpatton.com/wp-content/uploads/2024/01/Wednesday-Wells_20240117_153139_0000.png
END:VEVENT
BEGIN:VEVENT
DTSTART;TZID=America/Chicago:20270617T213000
DTEND;TZID=America/Chicago:20270617T233000
DTSTAMP:20260419T200949
CREATED:20240109T054649Z
LAST-MODIFIED:20240529T222920Z
UID:10002800-1813267800-1813275000@thediveonpatton.com
SUMMARY:Talk Nerdy To Me with Liquor Pitchers!!!
DESCRIPTION:Talk Nerdy to Me Trivia is now on Thursday nights! Some rounds are general trivia\, some are more for the dirty minded\, all will work your brain a little. And what better way to lubricate your brain\, than with Liquor Pitchers! A massive 48oz pitcher of Long Island\, Margarita\, Sex on the Beach\, or Adios Motherfucker. Balance it out with something from our kitchen or grab something for the Uber home.
URL:https://thediveonpatton.com/event/thursday-2/2027-06-17/
ATTACH;FMTTYPE=image/png:https://thediveonpatton.com/wp-content/uploads/2023/11/20240108_233241_0000.png
END:VEVENT
BEGIN:VEVENT
DTSTART;TZID=America/Chicago:20270618T190000
DTEND;TZID=America/Chicago:20270618T210000
DTSTAMP:20260419T200949
CREATED:20240529T222242Z
LAST-MODIFIED:20240529T222242Z
UID:10003584-1813345200-1813352400@thediveonpatton.com
SUMMARY:FriYAY Bar Bingo!!!
DESCRIPTION:Every Friday is Extreme Bar Bingo\, and your chance to win cash and other prizes! We’ve also got our $6/$8/$10 Pitcher specials all night!
URL:https://thediveonpatton.com/event/friyay-bar-bingo/2027-06-18/
ATTACH;FMTTYPE=image/png:https://thediveonpatton.com/wp-content/uploads/2024/05/Untitled-design_20240529_172150_0000.png
END:VEVENT
BEGIN:VEVENT
DTSTART;TZID=UTC:20270619T220000
DTEND;TZID=UTC:20270620T010000
DTSTAMP:20260419T200949
CREATED:20240529T224607Z
LAST-MODIFIED:20240529T224734Z
UID:10003863-1813442400-1813453200@thediveonpatton.com
SUMMARY:SHOTurday Night and Karaoke!!!
DESCRIPTION:Saturday Nights is time to get singing\, and what better way to warm up those nerves that seltzer and shot specials! Then grace the DOP stage with your favorite rendition of one of your favorite songs!
URL:https://thediveonpatton.com/event/shoturday-night-and-karaoke/2027-06-19/
ATTACH;FMTTYPE=image/png:https://thediveonpatton.com/wp-content/uploads/2024/05/20240117_155829_0000.png
END:VEVENT
BEGIN:VEVENT
DTSTART;TZID=America/Chicago:20270623T180000
DTEND;TZID=America/Chicago:20270624T010000
DTSTAMP:20260419T200949
CREATED:20240124T221024Z
LAST-MODIFIED:20240529T214839Z
UID:10003320-1813773600-1813798800@thediveonpatton.com
SUMMARY:Well Wednesday and Vybes Night!
DESCRIPTION:Come out and enjoy $3 Wells All night\, and enjoy the awesome music of The Vybes! It’s also Jam Session\, so if you play guitar\, drums\, sing\, or whatever\, get up on stage and jam out with The Vybes!
URL:https://thediveonpatton.com/event/wellsday/2027-06-23/
ATTACH;FMTTYPE=image/png:https://thediveonpatton.com/wp-content/uploads/2024/01/Wednesday-Wells_20240117_153139_0000.png
END:VEVENT
BEGIN:VEVENT
DTSTART;TZID=America/Chicago:20270624T213000
DTEND;TZID=America/Chicago:20270624T233000
DTSTAMP:20260419T200949
CREATED:20240109T054649Z
LAST-MODIFIED:20240529T222920Z
UID:10002801-1813872600-1813879800@thediveonpatton.com
SUMMARY:Talk Nerdy To Me with Liquor Pitchers!!!
DESCRIPTION:Talk Nerdy to Me Trivia is now on Thursday nights! Some rounds are general trivia\, some are more for the dirty minded\, all will work your brain a little. And what better way to lubricate your brain\, than with Liquor Pitchers! A massive 48oz pitcher of Long Island\, Margarita\, Sex on the Beach\, or Adios Motherfucker. Balance it out with something from our kitchen or grab something for the Uber home.
URL:https://thediveonpatton.com/event/thursday-2/2027-06-24/
ATTACH;FMTTYPE=image/png:https://thediveonpatton.com/wp-content/uploads/2023/11/20240108_233241_0000.png
END:VEVENT
BEGIN:VEVENT
DTSTART;TZID=America/Chicago:20270625T190000
DTEND;TZID=America/Chicago:20270625T210000
DTSTAMP:20260419T200949
CREATED:20240529T222242Z
LAST-MODIFIED:20240529T222242Z
UID:10003585-1813950000-1813957200@thediveonpatton.com
SUMMARY:FriYAY Bar Bingo!!!
DESCRIPTION:Every Friday is Extreme Bar Bingo\, and your chance to win cash and other prizes! We’ve also got our $6/$8/$10 Pitcher specials all night!
URL:https://thediveonpatton.com/event/friyay-bar-bingo/2027-06-25/
ATTACH;FMTTYPE=image/png:https://thediveonpatton.com/wp-content/uploads/2024/05/Untitled-design_20240529_172150_0000.png
END:VEVENT
BEGIN:VEVENT
DTSTART;TZID=UTC:20270626T220000
DTEND;TZID=UTC:20270627T010000
DTSTAMP:20260419T200949
CREATED:20240529T224607Z
LAST-MODIFIED:20240529T224734Z
UID:10003864-1814047200-1814058000@thediveonpatton.com
SUMMARY:SHOTurday Night and Karaoke!!!
DESCRIPTION:Saturday Nights is time to get singing\, and what better way to warm up those nerves that seltzer and shot specials! Then grace the DOP stage with your favorite rendition of one of your favorite songs!
URL:https://thediveonpatton.com/event/shoturday-night-and-karaoke/2027-06-26/
ATTACH;FMTTYPE=image/png:https://thediveonpatton.com/wp-content/uploads/2024/05/20240117_155829_0000.png
END:VEVENT
BEGIN:VEVENT
DTSTART;TZID=America/Chicago:20270630T180000
DTEND;TZID=America/Chicago:20270701T010000
DTSTAMP:20260419T200949
CREATED:20240124T221024Z
LAST-MODIFIED:20240529T214839Z
UID:10003321-1814378400-1814403600@thediveonpatton.com
SUMMARY:Well Wednesday and Vybes Night!
DESCRIPTION:Come out and enjoy $3 Wells All night\, and enjoy the awesome music of The Vybes! It’s also Jam Session\, so if you play guitar\, drums\, sing\, or whatever\, get up on stage and jam out with The Vybes!
URL:https://thediveonpatton.com/event/wellsday/2027-06-30/
ATTACH;FMTTYPE=image/png:https://thediveonpatton.com/wp-content/uploads/2024/01/Wednesday-Wells_20240117_153139_0000.png
END:VEVENT
BEGIN:VEVENT
DTSTART;TZID=America/Chicago:20270701T213000
DTEND;TZID=America/Chicago:20270701T233000
DTSTAMP:20260419T200949
CREATED:20240109T054649Z
LAST-MODIFIED:20240529T222920Z
UID:10002802-1814477400-1814484600@thediveonpatton.com
SUMMARY:Talk Nerdy To Me with Liquor Pitchers!!!
DESCRIPTION:Talk Nerdy to Me Trivia is now on Thursday nights! Some rounds are general trivia\, some are more for the dirty minded\, all will work your brain a little. And what better way to lubricate your brain\, than with Liquor Pitchers! A massive 48oz pitcher of Long Island\, Margarita\, Sex on the Beach\, or Adios Motherfucker. Balance it out with something from our kitchen or grab something for the Uber home.
URL:https://thediveonpatton.com/event/thursday-2/2027-07-01/
ATTACH;FMTTYPE=image/png:https://thediveonpatton.com/wp-content/uploads/2023/11/20240108_233241_0000.png
END:VEVENT
BEGIN:VEVENT
DTSTART;TZID=America/Chicago:20270702T190000
DTEND;TZID=America/Chicago:20270702T210000
DTSTAMP:20260419T200949
CREATED:20240529T222242Z
LAST-MODIFIED:20240529T222242Z
UID:10003586-1814554800-1814562000@thediveonpatton.com
SUMMARY:FriYAY Bar Bingo!!!
DESCRIPTION:Every Friday is Extreme Bar Bingo\, and your chance to win cash and other prizes! We’ve also got our $6/$8/$10 Pitcher specials all night!
URL:https://thediveonpatton.com/event/friyay-bar-bingo/2027-07-02/
ATTACH;FMTTYPE=image/png:https://thediveonpatton.com/wp-content/uploads/2024/05/Untitled-design_20240529_172150_0000.png
END:VEVENT
BEGIN:VEVENT
DTSTART;TZID=UTC:20270703T220000
DTEND;TZID=UTC:20270704T010000
DTSTAMP:20260419T200949
CREATED:20240529T224607Z
LAST-MODIFIED:20240529T224734Z
UID:10003865-1814652000-1814662800@thediveonpatton.com
SUMMARY:SHOTurday Night and Karaoke!!!
DESCRIPTION:Saturday Nights is time to get singing\, and what better way to warm up those nerves that seltzer and shot specials! Then grace the DOP stage with your favorite rendition of one of your favorite songs!
URL:https://thediveonpatton.com/event/shoturday-night-and-karaoke/2027-07-03/
ATTACH;FMTTYPE=image/png:https://thediveonpatton.com/wp-content/uploads/2024/05/20240117_155829_0000.png
END:VEVENT
BEGIN:VEVENT
DTSTART;TZID=America/Chicago:20270707T180000
DTEND;TZID=America/Chicago:20270708T010000
DTSTAMP:20260419T200949
CREATED:20240124T221024Z
LAST-MODIFIED:20240529T214839Z
UID:10003322-1814983200-1815008400@thediveonpatton.com
SUMMARY:Well Wednesday and Vybes Night!
DESCRIPTION:Come out and enjoy $3 Wells All night\, and enjoy the awesome music of The Vybes! It’s also Jam Session\, so if you play guitar\, drums\, sing\, or whatever\, get up on stage and jam out with The Vybes!
URL:https://thediveonpatton.com/event/wellsday/2027-07-07/
ATTACH;FMTTYPE=image/png:https://thediveonpatton.com/wp-content/uploads/2024/01/Wednesday-Wells_20240117_153139_0000.png
END:VEVENT
BEGIN:VEVENT
DTSTART;TZID=America/Chicago:20270708T213000
DTEND;TZID=America/Chicago:20270708T233000
DTSTAMP:20260419T200949
CREATED:20240109T054649Z
LAST-MODIFIED:20240529T222920Z
UID:10002803-1815082200-1815089400@thediveonpatton.com
SUMMARY:Talk Nerdy To Me with Liquor Pitchers!!!
DESCRIPTION:Talk Nerdy to Me Trivia is now on Thursday nights! Some rounds are general trivia\, some are more for the dirty minded\, all will work your brain a little. And what better way to lubricate your brain\, than with Liquor Pitchers! A massive 48oz pitcher of Long Island\, Margarita\, Sex on the Beach\, or Adios Motherfucker. Balance it out with something from our kitchen or grab something for the Uber home.
URL:https://thediveonpatton.com/event/thursday-2/2027-07-08/
ATTACH;FMTTYPE=image/png:https://thediveonpatton.com/wp-content/uploads/2023/11/20240108_233241_0000.png
END:VEVENT
BEGIN:VEVENT
DTSTART;TZID=America/Chicago:20270709T190000
DTEND;TZID=America/Chicago:20270709T210000
DTSTAMP:20260419T200949
CREATED:20240529T222242Z
LAST-MODIFIED:20240529T222242Z
UID:10003587-1815159600-1815166800@thediveonpatton.com
SUMMARY:FriYAY Bar Bingo!!!
DESCRIPTION:Every Friday is Extreme Bar Bingo\, and your chance to win cash and other prizes! We’ve also got our $6/$8/$10 Pitcher specials all night!
URL:https://thediveonpatton.com/event/friyay-bar-bingo/2027-07-09/
ATTACH;FMTTYPE=image/png:https://thediveonpatton.com/wp-content/uploads/2024/05/Untitled-design_20240529_172150_0000.png
END:VEVENT
BEGIN:VEVENT
DTSTART;TZID=UTC:20270710T220000
DTEND;TZID=UTC:20270711T010000
DTSTAMP:20260419T200949
CREATED:20240529T224607Z
LAST-MODIFIED:20240529T224734Z
UID:10003866-1815256800-1815267600@thediveonpatton.com
SUMMARY:SHOTurday Night and Karaoke!!!
DESCRIPTION:Saturday Nights is time to get singing\, and what better way to warm up those nerves that seltzer and shot specials! Then grace the DOP stage with your favorite rendition of one of your favorite songs!
URL:https://thediveonpatton.com/event/shoturday-night-and-karaoke/2027-07-10/
ATTACH;FMTTYPE=image/png:https://thediveonpatton.com/wp-content/uploads/2024/05/20240117_155829_0000.png
END:VEVENT
BEGIN:VEVENT
DTSTART;TZID=America/Chicago:20270714T180000
DTEND;TZID=America/Chicago:20270715T010000
DTSTAMP:20260419T200949
CREATED:20240124T221024Z
LAST-MODIFIED:20240529T214839Z
UID:10003323-1815588000-1815613200@thediveonpatton.com
SUMMARY:Well Wednesday and Vybes Night!
DESCRIPTION:Come out and enjoy $3 Wells All night\, and enjoy the awesome music of The Vybes! It’s also Jam Session\, so if you play guitar\, drums\, sing\, or whatever\, get up on stage and jam out with The Vybes!
URL:https://thediveonpatton.com/event/wellsday/2027-07-14/
ATTACH;FMTTYPE=image/png:https://thediveonpatton.com/wp-content/uploads/2024/01/Wednesday-Wells_20240117_153139_0000.png
END:VEVENT
BEGIN:VEVENT
DTSTART;TZID=America/Chicago:20270715T213000
DTEND;TZID=America/Chicago:20270715T233000
DTSTAMP:20260419T200949
CREATED:20240109T054649Z
LAST-MODIFIED:20240529T222920Z
UID:10002804-1815687000-1815694200@thediveonpatton.com
SUMMARY:Talk Nerdy To Me with Liquor Pitchers!!!
DESCRIPTION:Talk Nerdy to Me Trivia is now on Thursday nights! Some rounds are general trivia\, some are more for the dirty minded\, all will work your brain a little. And what better way to lubricate your brain\, than with Liquor Pitchers! A massive 48oz pitcher of Long Island\, Margarita\, Sex on the Beach\, or Adios Motherfucker. Balance it out with something from our kitchen or grab something for the Uber home.
URL:https://thediveonpatton.com/event/thursday-2/2027-07-15/
ATTACH;FMTTYPE=image/png:https://thediveonpatton.com/wp-content/uploads/2023/11/20240108_233241_0000.png
END:VEVENT
BEGIN:VEVENT
DTSTART;TZID=America/Chicago:20270716T190000
DTEND;TZID=America/Chicago:20270716T210000
DTSTAMP:20260419T200949
CREATED:20240529T222242Z
LAST-MODIFIED:20240529T222242Z
UID:10003588-1815764400-1815771600@thediveonpatton.com
SUMMARY:FriYAY Bar Bingo!!!
DESCRIPTION:Every Friday is Extreme Bar Bingo\, and your chance to win cash and other prizes! We’ve also got our $6/$8/$10 Pitcher specials all night!
URL:https://thediveonpatton.com/event/friyay-bar-bingo/2027-07-16/
ATTACH;FMTTYPE=image/png:https://thediveonpatton.com/wp-content/uploads/2024/05/Untitled-design_20240529_172150_0000.png
END:VEVENT
BEGIN:VEVENT
DTSTART;TZID=UTC:20270717T220000
DTEND;TZID=UTC:20270718T010000
DTSTAMP:20260419T200949
CREATED:20240529T224607Z
LAST-MODIFIED:20240529T224734Z
UID:10003867-1815861600-1815872400@thediveonpatton.com
SUMMARY:SHOTurday Night and Karaoke!!!
DESCRIPTION:Saturday Nights is time to get singing\, and what better way to warm up those nerves that seltzer and shot specials! Then grace the DOP stage with your favorite rendition of one of your favorite songs!
URL:https://thediveonpatton.com/event/shoturday-night-and-karaoke/2027-07-17/
ATTACH;FMTTYPE=image/png:https://thediveonpatton.com/wp-content/uploads/2024/05/20240117_155829_0000.png
END:VEVENT
BEGIN:VEVENT
DTSTART;TZID=America/Chicago:20270721T180000
DTEND;TZID=America/Chicago:20270722T010000
DTSTAMP:20260419T200949
CREATED:20240124T221024Z
LAST-MODIFIED:20240529T214839Z
UID:10003324-1816192800-1816218000@thediveonpatton.com
SUMMARY:Well Wednesday and Vybes Night!
DESCRIPTION:Come out and enjoy $3 Wells All night\, and enjoy the awesome music of The Vybes! It’s also Jam Session\, so if you play guitar\, drums\, sing\, or whatever\, get up on stage and jam out with The Vybes!
URL:https://thediveonpatton.com/event/wellsday/2027-07-21/
ATTACH;FMTTYPE=image/png:https://thediveonpatton.com/wp-content/uploads/2024/01/Wednesday-Wells_20240117_153139_0000.png
END:VEVENT
BEGIN:VEVENT
DTSTART;TZID=America/Chicago:20270722T213000
DTEND;TZID=America/Chicago:20270722T233000
DTSTAMP:20260419T200949
CREATED:20240109T054649Z
LAST-MODIFIED:20240529T222920Z
UID:10002805-1816291800-1816299000@thediveonpatton.com
SUMMARY:Talk Nerdy To Me with Liquor Pitchers!!!
DESCRIPTION:Talk Nerdy to Me Trivia is now on Thursday nights! Some rounds are general trivia\, some are more for the dirty minded\, all will work your brain a little. And what better way to lubricate your brain\, than with Liquor Pitchers! A massive 48oz pitcher of Long Island\, Margarita\, Sex on the Beach\, or Adios Motherfucker. Balance it out with something from our kitchen or grab something for the Uber home.
URL:https://thediveonpatton.com/event/thursday-2/2027-07-22/
ATTACH;FMTTYPE=image/png:https://thediveonpatton.com/wp-content/uploads/2023/11/20240108_233241_0000.png
END:VEVENT
BEGIN:VEVENT
DTSTART;TZID=America/Chicago:20270723T190000
DTEND;TZID=America/Chicago:20270723T210000
DTSTAMP:20260419T200949
CREATED:20240529T222242Z
LAST-MODIFIED:20240529T222242Z
UID:10003589-1816369200-1816376400@thediveonpatton.com
SUMMARY:FriYAY Bar Bingo!!!
DESCRIPTION:Every Friday is Extreme Bar Bingo\, and your chance to win cash and other prizes! We’ve also got our $6/$8/$10 Pitcher specials all night!
URL:https://thediveonpatton.com/event/friyay-bar-bingo/2027-07-23/
ATTACH;FMTTYPE=image/png:https://thediveonpatton.com/wp-content/uploads/2024/05/Untitled-design_20240529_172150_0000.png
END:VEVENT
BEGIN:VEVENT
DTSTART;TZID=UTC:20270724T220000
DTEND;TZID=UTC:20270725T010000
DTSTAMP:20260419T200949
CREATED:20240529T224607Z
LAST-MODIFIED:20240529T224734Z
UID:10003868-1816466400-1816477200@thediveonpatton.com
SUMMARY:SHOTurday Night and Karaoke!!!
DESCRIPTION:Saturday Nights is time to get singing\, and what better way to warm up those nerves that seltzer and shot specials! Then grace the DOP stage with your favorite rendition of one of your favorite songs!
URL:https://thediveonpatton.com/event/shoturday-night-and-karaoke/2027-07-24/
ATTACH;FMTTYPE=image/png:https://thediveonpatton.com/wp-content/uploads/2024/05/20240117_155829_0000.png
END:VEVENT
BEGIN:VEVENT
DTSTART;TZID=America/Chicago:20270728T180000
DTEND;TZID=America/Chicago:20270729T010000
DTSTAMP:20260419T200949
CREATED:20240124T221024Z
LAST-MODIFIED:20240529T214839Z
UID:10003325-1816797600-1816822800@thediveonpatton.com
SUMMARY:Well Wednesday and Vybes Night!
DESCRIPTION:Come out and enjoy $3 Wells All night\, and enjoy the awesome music of The Vybes! It’s also Jam Session\, so if you play guitar\, drums\, sing\, or whatever\, get up on stage and jam out with The Vybes!
URL:https://thediveonpatton.com/event/wellsday/2027-07-28/
ATTACH;FMTTYPE=image/png:https://thediveonpatton.com/wp-content/uploads/2024/01/Wednesday-Wells_20240117_153139_0000.png
END:VEVENT
BEGIN:VEVENT
DTSTART;TZID=America/Chicago:20270729T213000
DTEND;TZID=America/Chicago:20270729T233000
DTSTAMP:20260419T200949
CREATED:20240109T054649Z
LAST-MODIFIED:20240529T222920Z
UID:10002806-1816896600-1816903800@thediveonpatton.com
SUMMARY:Talk Nerdy To Me with Liquor Pitchers!!!
DESCRIPTION:Talk Nerdy to Me Trivia is now on Thursday nights! Some rounds are general trivia\, some are more for the dirty minded\, all will work your brain a little. And what better way to lubricate your brain\, than with Liquor Pitchers! A massive 48oz pitcher of Long Island\, Margarita\, Sex on the Beach\, or Adios Motherfucker. Balance it out with something from our kitchen or grab something for the Uber home.
URL:https://thediveonpatton.com/event/thursday-2/2027-07-29/
ATTACH;FMTTYPE=image/png:https://thediveonpatton.com/wp-content/uploads/2023/11/20240108_233241_0000.png
END:VEVENT
BEGIN:VEVENT
DTSTART;TZID=America/Chicago:20270730T190000
DTEND;TZID=America/Chicago:20270730T210000
DTSTAMP:20260419T200949
CREATED:20240529T222242Z
LAST-MODIFIED:20240529T222242Z
UID:10003590-1816974000-1816981200@thediveonpatton.com
SUMMARY:FriYAY Bar Bingo!!!
DESCRIPTION:Every Friday is Extreme Bar Bingo\, and your chance to win cash and other prizes! We’ve also got our $6/$8/$10 Pitcher specials all night!
URL:https://thediveonpatton.com/event/friyay-bar-bingo/2027-07-30/
ATTACH;FMTTYPE=image/png:https://thediveonpatton.com/wp-content/uploads/2024/05/Untitled-design_20240529_172150_0000.png
END:VEVENT
BEGIN:VEVENT
DTSTART;TZID=UTC:20270731T220000
DTEND;TZID=UTC:20270801T010000
DTSTAMP:20260419T200949
CREATED:20240529T224607Z
LAST-MODIFIED:20240529T224734Z
UID:10003869-1817071200-1817082000@thediveonpatton.com
SUMMARY:SHOTurday Night and Karaoke!!!
DESCRIPTION:Saturday Nights is time to get singing\, and what better way to warm up those nerves that seltzer and shot specials! Then grace the DOP stage with your favorite rendition of one of your favorite songs!
URL:https://thediveonpatton.com/event/shoturday-night-and-karaoke/2027-07-31/
ATTACH;FMTTYPE=image/png:https://thediveonpatton.com/wp-content/uploads/2024/05/20240117_155829_0000.png
END:VEVENT
END:VCALENDAR