BEGIN:VCALENDAR
VERSION:2.0
PRODID:-//The Dive On Patton - ECPv6.15.20//NONSGML v1.0//EN
CALSCALE:GREGORIAN
METHOD:PUBLISH
X-WR-CALNAME:The Dive On Patton
X-ORIGINAL-URL:https://thediveonpatton.com
X-WR-CALDESC:Events for The Dive On Patton
REFRESH-INTERVAL;VALUE=DURATION:PT1H
X-Robots-Tag:noindex
X-PUBLISHED-TTL:PT1H
BEGIN:VTIMEZONE
TZID:America/Chicago
BEGIN:DAYLIGHT
TZOFFSETFROM:-0600
TZOFFSETTO:-0500
TZNAME:CDT
DTSTART:20270314T080000
END:DAYLIGHT
BEGIN:STANDARD
TZOFFSETFROM:-0500
TZOFFSETTO:-0600
TZNAME:CST
DTSTART:20271107T070000
END:STANDARD
BEGIN:DAYLIGHT
TZOFFSETFROM:-0600
TZOFFSETTO:-0500
TZNAME:CDT
DTSTART:20280312T080000
END:DAYLIGHT
BEGIN:STANDARD
TZOFFSETFROM:-0500
TZOFFSETTO:-0600
TZNAME:CST
DTSTART:20281105T070000
END:STANDARD
BEGIN:DAYLIGHT
TZOFFSETFROM:-0600
TZOFFSETTO:-0500
TZNAME:CDT
DTSTART:20290311T080000
END:DAYLIGHT
BEGIN:STANDARD
TZOFFSETFROM:-0500
TZOFFSETTO:-0600
TZNAME:CST
DTSTART:20291104T070000
END:STANDARD
END:VTIMEZONE
BEGIN:VTIMEZONE
TZID:UTC
BEGIN:STANDARD
TZOFFSETFROM:+0000
TZOFFSETTO:+0000
TZNAME:UTC
DTSTART:20270101T000000
END:STANDARD
END:VTIMEZONE
BEGIN:VEVENT
DTSTART;TZID=America/Chicago:20280317T190000
DTEND;TZID=America/Chicago:20280317T210000
DTSTAMP:20260421T052717
CREATED:20240529T222242Z
LAST-MODIFIED:20240529T222242Z
UID:10003623-1836932400-1836939600@thediveonpatton.com
SUMMARY:FriYAY Bar Bingo!!!
DESCRIPTION:Every Friday is Extreme Bar Bingo\, and your chance to win cash and other prizes! We’ve also got our $6/$8/$10 Pitcher specials all night!
URL:https://thediveonpatton.com/event/friyay-bar-bingo/2028-03-17/
ATTACH;FMTTYPE=image/png:https://thediveonpatton.com/wp-content/uploads/2024/05/Untitled-design_20240529_172150_0000.png
END:VEVENT
BEGIN:VEVENT
DTSTART;TZID=UTC:20280318T220000
DTEND;TZID=UTC:20280319T010000
DTSTAMP:20260421T052717
CREATED:20240529T224607Z
LAST-MODIFIED:20240529T224734Z
UID:10003902-1837029600-1837040400@thediveonpatton.com
SUMMARY:SHOTurday Night and Karaoke!!!
DESCRIPTION:Saturday Nights is time to get singing\, and what better way to warm up those nerves that seltzer and shot specials! Then grace the DOP stage with your favorite rendition of one of your favorite songs!
URL:https://thediveonpatton.com/event/shoturday-night-and-karaoke/2028-03-18/
ATTACH;FMTTYPE=image/png:https://thediveonpatton.com/wp-content/uploads/2024/05/20240117_155829_0000.png
END:VEVENT
BEGIN:VEVENT
DTSTART;TZID=America/Chicago:20280322T180000
DTEND;TZID=America/Chicago:20280323T010000
DTSTAMP:20260421T052717
CREATED:20240124T221024Z
LAST-MODIFIED:20240529T214839Z
UID:10003359-1837360800-1837386000@thediveonpatton.com
SUMMARY:Well Wednesday and Vybes Night!
DESCRIPTION:Come out and enjoy $3 Wells All night\, and enjoy the awesome music of The Vybes! It’s also Jam Session\, so if you play guitar\, drums\, sing\, or whatever\, get up on stage and jam out with The Vybes!
URL:https://thediveonpatton.com/event/wellsday/2028-03-22/
ATTACH;FMTTYPE=image/png:https://thediveonpatton.com/wp-content/uploads/2024/01/Wednesday-Wells_20240117_153139_0000.png
END:VEVENT
BEGIN:VEVENT
DTSTART;TZID=America/Chicago:20280323T213000
DTEND;TZID=America/Chicago:20280323T233000
DTSTAMP:20260421T052717
CREATED:20240109T054649Z
LAST-MODIFIED:20240529T222920Z
UID:10002840-1837459800-1837467000@thediveonpatton.com
SUMMARY:Talk Nerdy To Me with Liquor Pitchers!!!
DESCRIPTION:Talk Nerdy to Me Trivia is now on Thursday nights! Some rounds are general trivia\, some are more for the dirty minded\, all will work your brain a little. And what better way to lubricate your brain\, than with Liquor Pitchers! A massive 48oz pitcher of Long Island\, Margarita\, Sex on the Beach\, or Adios Motherfucker. Balance it out with something from our kitchen or grab something for the Uber home.
URL:https://thediveonpatton.com/event/thursday-2/2028-03-23/
ATTACH;FMTTYPE=image/png:https://thediveonpatton.com/wp-content/uploads/2023/11/20240108_233241_0000.png
END:VEVENT
BEGIN:VEVENT
DTSTART;TZID=America/Chicago:20280324T190000
DTEND;TZID=America/Chicago:20280324T210000
DTSTAMP:20260421T052717
CREATED:20240529T222242Z
LAST-MODIFIED:20240529T222242Z
UID:10003624-1837537200-1837544400@thediveonpatton.com
SUMMARY:FriYAY Bar Bingo!!!
DESCRIPTION:Every Friday is Extreme Bar Bingo\, and your chance to win cash and other prizes! We’ve also got our $6/$8/$10 Pitcher specials all night!
URL:https://thediveonpatton.com/event/friyay-bar-bingo/2028-03-24/
ATTACH;FMTTYPE=image/png:https://thediveonpatton.com/wp-content/uploads/2024/05/Untitled-design_20240529_172150_0000.png
END:VEVENT
BEGIN:VEVENT
DTSTART;TZID=UTC:20280325T220000
DTEND;TZID=UTC:20280326T010000
DTSTAMP:20260421T052717
CREATED:20240529T224607Z
LAST-MODIFIED:20240529T224734Z
UID:10003903-1837634400-1837645200@thediveonpatton.com
SUMMARY:SHOTurday Night and Karaoke!!!
DESCRIPTION:Saturday Nights is time to get singing\, and what better way to warm up those nerves that seltzer and shot specials! Then grace the DOP stage with your favorite rendition of one of your favorite songs!
URL:https://thediveonpatton.com/event/shoturday-night-and-karaoke/2028-03-25/
ATTACH;FMTTYPE=image/png:https://thediveonpatton.com/wp-content/uploads/2024/05/20240117_155829_0000.png
END:VEVENT
BEGIN:VEVENT
DTSTART;TZID=America/Chicago:20280329T180000
DTEND;TZID=America/Chicago:20280330T010000
DTSTAMP:20260421T052717
CREATED:20240124T221024Z
LAST-MODIFIED:20240529T214839Z
UID:10003360-1837965600-1837990800@thediveonpatton.com
SUMMARY:Well Wednesday and Vybes Night!
DESCRIPTION:Come out and enjoy $3 Wells All night\, and enjoy the awesome music of The Vybes! It’s also Jam Session\, so if you play guitar\, drums\, sing\, or whatever\, get up on stage and jam out with The Vybes!
URL:https://thediveonpatton.com/event/wellsday/2028-03-29/
ATTACH;FMTTYPE=image/png:https://thediveonpatton.com/wp-content/uploads/2024/01/Wednesday-Wells_20240117_153139_0000.png
END:VEVENT
BEGIN:VEVENT
DTSTART;TZID=America/Chicago:20280330T213000
DTEND;TZID=America/Chicago:20280330T233000
DTSTAMP:20260421T052717
CREATED:20240109T054649Z
LAST-MODIFIED:20240529T222920Z
UID:10002841-1838064600-1838071800@thediveonpatton.com
SUMMARY:Talk Nerdy To Me with Liquor Pitchers!!!
DESCRIPTION:Talk Nerdy to Me Trivia is now on Thursday nights! Some rounds are general trivia\, some are more for the dirty minded\, all will work your brain a little. And what better way to lubricate your brain\, than with Liquor Pitchers! A massive 48oz pitcher of Long Island\, Margarita\, Sex on the Beach\, or Adios Motherfucker. Balance it out with something from our kitchen or grab something for the Uber home.
URL:https://thediveonpatton.com/event/thursday-2/2028-03-30/
ATTACH;FMTTYPE=image/png:https://thediveonpatton.com/wp-content/uploads/2023/11/20240108_233241_0000.png
END:VEVENT
BEGIN:VEVENT
DTSTART;TZID=America/Chicago:20280331T190000
DTEND;TZID=America/Chicago:20280331T210000
DTSTAMP:20260421T052717
CREATED:20240529T222242Z
LAST-MODIFIED:20240529T222242Z
UID:10003625-1838142000-1838149200@thediveonpatton.com
SUMMARY:FriYAY Bar Bingo!!!
DESCRIPTION:Every Friday is Extreme Bar Bingo\, and your chance to win cash and other prizes! We’ve also got our $6/$8/$10 Pitcher specials all night!
URL:https://thediveonpatton.com/event/friyay-bar-bingo/2028-03-31/
ATTACH;FMTTYPE=image/png:https://thediveonpatton.com/wp-content/uploads/2024/05/Untitled-design_20240529_172150_0000.png
END:VEVENT
BEGIN:VEVENT
DTSTART;TZID=UTC:20280401T220000
DTEND;TZID=UTC:20280402T010000
DTSTAMP:20260421T052717
CREATED:20240529T224607Z
LAST-MODIFIED:20240529T224734Z
UID:10003904-1838239200-1838250000@thediveonpatton.com
SUMMARY:SHOTurday Night and Karaoke!!!
DESCRIPTION:Saturday Nights is time to get singing\, and what better way to warm up those nerves that seltzer and shot specials! Then grace the DOP stage with your favorite rendition of one of your favorite songs!
URL:https://thediveonpatton.com/event/shoturday-night-and-karaoke/2028-04-01/
ATTACH;FMTTYPE=image/png:https://thediveonpatton.com/wp-content/uploads/2024/05/20240117_155829_0000.png
END:VEVENT
BEGIN:VEVENT
DTSTART;TZID=America/Chicago:20280405T180000
DTEND;TZID=America/Chicago:20280406T010000
DTSTAMP:20260421T052717
CREATED:20240124T221024Z
LAST-MODIFIED:20240529T214839Z
UID:10003361-1838570400-1838595600@thediveonpatton.com
SUMMARY:Well Wednesday and Vybes Night!
DESCRIPTION:Come out and enjoy $3 Wells All night\, and enjoy the awesome music of The Vybes! It’s also Jam Session\, so if you play guitar\, drums\, sing\, or whatever\, get up on stage and jam out with The Vybes!
URL:https://thediveonpatton.com/event/wellsday/2028-04-05/
ATTACH;FMTTYPE=image/png:https://thediveonpatton.com/wp-content/uploads/2024/01/Wednesday-Wells_20240117_153139_0000.png
END:VEVENT
BEGIN:VEVENT
DTSTART;TZID=America/Chicago:20280406T213000
DTEND;TZID=America/Chicago:20280406T233000
DTSTAMP:20260421T052717
CREATED:20240109T054649Z
LAST-MODIFIED:20240529T222920Z
UID:10002842-1838669400-1838676600@thediveonpatton.com
SUMMARY:Talk Nerdy To Me with Liquor Pitchers!!!
DESCRIPTION:Talk Nerdy to Me Trivia is now on Thursday nights! Some rounds are general trivia\, some are more for the dirty minded\, all will work your brain a little. And what better way to lubricate your brain\, than with Liquor Pitchers! A massive 48oz pitcher of Long Island\, Margarita\, Sex on the Beach\, or Adios Motherfucker. Balance it out with something from our kitchen or grab something for the Uber home.
URL:https://thediveonpatton.com/event/thursday-2/2028-04-06/
ATTACH;FMTTYPE=image/png:https://thediveonpatton.com/wp-content/uploads/2023/11/20240108_233241_0000.png
END:VEVENT
BEGIN:VEVENT
DTSTART;TZID=America/Chicago:20280407T190000
DTEND;TZID=America/Chicago:20280407T210000
DTSTAMP:20260421T052717
CREATED:20240529T222242Z
LAST-MODIFIED:20240529T222242Z
UID:10003626-1838746800-1838754000@thediveonpatton.com
SUMMARY:FriYAY Bar Bingo!!!
DESCRIPTION:Every Friday is Extreme Bar Bingo\, and your chance to win cash and other prizes! We’ve also got our $6/$8/$10 Pitcher specials all night!
URL:https://thediveonpatton.com/event/friyay-bar-bingo/2028-04-07/
ATTACH;FMTTYPE=image/png:https://thediveonpatton.com/wp-content/uploads/2024/05/Untitled-design_20240529_172150_0000.png
END:VEVENT
BEGIN:VEVENT
DTSTART;TZID=UTC:20280408T220000
DTEND;TZID=UTC:20280409T010000
DTSTAMP:20260421T052717
CREATED:20240529T224607Z
LAST-MODIFIED:20240529T224734Z
UID:10003905-1838844000-1838854800@thediveonpatton.com
SUMMARY:SHOTurday Night and Karaoke!!!
DESCRIPTION:Saturday Nights is time to get singing\, and what better way to warm up those nerves that seltzer and shot specials! Then grace the DOP stage with your favorite rendition of one of your favorite songs!
URL:https://thediveonpatton.com/event/shoturday-night-and-karaoke/2028-04-08/
ATTACH;FMTTYPE=image/png:https://thediveonpatton.com/wp-content/uploads/2024/05/20240117_155829_0000.png
END:VEVENT
BEGIN:VEVENT
DTSTART;TZID=America/Chicago:20280412T180000
DTEND;TZID=America/Chicago:20280413T010000
DTSTAMP:20260421T052717
CREATED:20240124T221024Z
LAST-MODIFIED:20240529T214839Z
UID:10003362-1839175200-1839200400@thediveonpatton.com
SUMMARY:Well Wednesday and Vybes Night!
DESCRIPTION:Come out and enjoy $3 Wells All night\, and enjoy the awesome music of The Vybes! It’s also Jam Session\, so if you play guitar\, drums\, sing\, or whatever\, get up on stage and jam out with The Vybes!
URL:https://thediveonpatton.com/event/wellsday/2028-04-12/
ATTACH;FMTTYPE=image/png:https://thediveonpatton.com/wp-content/uploads/2024/01/Wednesday-Wells_20240117_153139_0000.png
END:VEVENT
BEGIN:VEVENT
DTSTART;TZID=America/Chicago:20280413T213000
DTEND;TZID=America/Chicago:20280413T233000
DTSTAMP:20260421T052717
CREATED:20240109T054649Z
LAST-MODIFIED:20240529T222920Z
UID:10002843-1839274200-1839281400@thediveonpatton.com
SUMMARY:Talk Nerdy To Me with Liquor Pitchers!!!
DESCRIPTION:Talk Nerdy to Me Trivia is now on Thursday nights! Some rounds are general trivia\, some are more for the dirty minded\, all will work your brain a little. And what better way to lubricate your brain\, than with Liquor Pitchers! A massive 48oz pitcher of Long Island\, Margarita\, Sex on the Beach\, or Adios Motherfucker. Balance it out with something from our kitchen or grab something for the Uber home.
URL:https://thediveonpatton.com/event/thursday-2/2028-04-13/
ATTACH;FMTTYPE=image/png:https://thediveonpatton.com/wp-content/uploads/2023/11/20240108_233241_0000.png
END:VEVENT
BEGIN:VEVENT
DTSTART;TZID=America/Chicago:20280414T190000
DTEND;TZID=America/Chicago:20280414T210000
DTSTAMP:20260421T052717
CREATED:20240529T222242Z
LAST-MODIFIED:20240529T222242Z
UID:10003627-1839351600-1839358800@thediveonpatton.com
SUMMARY:FriYAY Bar Bingo!!!
DESCRIPTION:Every Friday is Extreme Bar Bingo\, and your chance to win cash and other prizes! We’ve also got our $6/$8/$10 Pitcher specials all night!
URL:https://thediveonpatton.com/event/friyay-bar-bingo/2028-04-14/
ATTACH;FMTTYPE=image/png:https://thediveonpatton.com/wp-content/uploads/2024/05/Untitled-design_20240529_172150_0000.png
END:VEVENT
BEGIN:VEVENT
DTSTART;TZID=UTC:20280415T220000
DTEND;TZID=UTC:20280416T010000
DTSTAMP:20260421T052717
CREATED:20240529T224607Z
LAST-MODIFIED:20240529T224734Z
UID:10003906-1839448800-1839459600@thediveonpatton.com
SUMMARY:SHOTurday Night and Karaoke!!!
DESCRIPTION:Saturday Nights is time to get singing\, and what better way to warm up those nerves that seltzer and shot specials! Then grace the DOP stage with your favorite rendition of one of your favorite songs!
URL:https://thediveonpatton.com/event/shoturday-night-and-karaoke/2028-04-15/
ATTACH;FMTTYPE=image/png:https://thediveonpatton.com/wp-content/uploads/2024/05/20240117_155829_0000.png
END:VEVENT
BEGIN:VEVENT
DTSTART;TZID=America/Chicago:20280419T180000
DTEND;TZID=America/Chicago:20280420T010000
DTSTAMP:20260421T052717
CREATED:20240124T221024Z
LAST-MODIFIED:20240529T214839Z
UID:10003363-1839780000-1839805200@thediveonpatton.com
SUMMARY:Well Wednesday and Vybes Night!
DESCRIPTION:Come out and enjoy $3 Wells All night\, and enjoy the awesome music of The Vybes! It’s also Jam Session\, so if you play guitar\, drums\, sing\, or whatever\, get up on stage and jam out with The Vybes!
URL:https://thediveonpatton.com/event/wellsday/2028-04-19/
ATTACH;FMTTYPE=image/png:https://thediveonpatton.com/wp-content/uploads/2024/01/Wednesday-Wells_20240117_153139_0000.png
END:VEVENT
BEGIN:VEVENT
DTSTART;TZID=America/Chicago:20280420T213000
DTEND;TZID=America/Chicago:20280420T233000
DTSTAMP:20260421T052717
CREATED:20240109T054649Z
LAST-MODIFIED:20240529T222920Z
UID:10002844-1839879000-1839886200@thediveonpatton.com
SUMMARY:Talk Nerdy To Me with Liquor Pitchers!!!
DESCRIPTION:Talk Nerdy to Me Trivia is now on Thursday nights! Some rounds are general trivia\, some are more for the dirty minded\, all will work your brain a little. And what better way to lubricate your brain\, than with Liquor Pitchers! A massive 48oz pitcher of Long Island\, Margarita\, Sex on the Beach\, or Adios Motherfucker. Balance it out with something from our kitchen or grab something for the Uber home.
URL:https://thediveonpatton.com/event/thursday-2/2028-04-20/
ATTACH;FMTTYPE=image/png:https://thediveonpatton.com/wp-content/uploads/2023/11/20240108_233241_0000.png
END:VEVENT
BEGIN:VEVENT
DTSTART;TZID=America/Chicago:20280421T190000
DTEND;TZID=America/Chicago:20280421T210000
DTSTAMP:20260421T052717
CREATED:20240529T222242Z
LAST-MODIFIED:20240529T222242Z
UID:10003628-1839956400-1839963600@thediveonpatton.com
SUMMARY:FriYAY Bar Bingo!!!
DESCRIPTION:Every Friday is Extreme Bar Bingo\, and your chance to win cash and other prizes! We’ve also got our $6/$8/$10 Pitcher specials all night!
URL:https://thediveonpatton.com/event/friyay-bar-bingo/2028-04-21/
ATTACH;FMTTYPE=image/png:https://thediveonpatton.com/wp-content/uploads/2024/05/Untitled-design_20240529_172150_0000.png
END:VEVENT
BEGIN:VEVENT
DTSTART;TZID=UTC:20280422T220000
DTEND;TZID=UTC:20280423T010000
DTSTAMP:20260421T052717
CREATED:20240529T224607Z
LAST-MODIFIED:20240529T224734Z
UID:10003907-1840053600-1840064400@thediveonpatton.com
SUMMARY:SHOTurday Night and Karaoke!!!
DESCRIPTION:Saturday Nights is time to get singing\, and what better way to warm up those nerves that seltzer and shot specials! Then grace the DOP stage with your favorite rendition of one of your favorite songs!
URL:https://thediveonpatton.com/event/shoturday-night-and-karaoke/2028-04-22/
ATTACH;FMTTYPE=image/png:https://thediveonpatton.com/wp-content/uploads/2024/05/20240117_155829_0000.png
END:VEVENT
BEGIN:VEVENT
DTSTART;TZID=America/Chicago:20280426T180000
DTEND;TZID=America/Chicago:20280427T010000
DTSTAMP:20260421T052717
CREATED:20240124T221024Z
LAST-MODIFIED:20240529T214839Z
UID:10003364-1840384800-1840410000@thediveonpatton.com
SUMMARY:Well Wednesday and Vybes Night!
DESCRIPTION:Come out and enjoy $3 Wells All night\, and enjoy the awesome music of The Vybes! It’s also Jam Session\, so if you play guitar\, drums\, sing\, or whatever\, get up on stage and jam out with The Vybes!
URL:https://thediveonpatton.com/event/wellsday/2028-04-26/
ATTACH;FMTTYPE=image/png:https://thediveonpatton.com/wp-content/uploads/2024/01/Wednesday-Wells_20240117_153139_0000.png
END:VEVENT
BEGIN:VEVENT
DTSTART;TZID=America/Chicago:20280427T213000
DTEND;TZID=America/Chicago:20280427T233000
DTSTAMP:20260421T052717
CREATED:20240109T054649Z
LAST-MODIFIED:20240529T222920Z
UID:10002845-1840483800-1840491000@thediveonpatton.com
SUMMARY:Talk Nerdy To Me with Liquor Pitchers!!!
DESCRIPTION:Talk Nerdy to Me Trivia is now on Thursday nights! Some rounds are general trivia\, some are more for the dirty minded\, all will work your brain a little. And what better way to lubricate your brain\, than with Liquor Pitchers! A massive 48oz pitcher of Long Island\, Margarita\, Sex on the Beach\, or Adios Motherfucker. Balance it out with something from our kitchen or grab something for the Uber home.
URL:https://thediveonpatton.com/event/thursday-2/2028-04-27/
ATTACH;FMTTYPE=image/png:https://thediveonpatton.com/wp-content/uploads/2023/11/20240108_233241_0000.png
END:VEVENT
BEGIN:VEVENT
DTSTART;TZID=America/Chicago:20280428T190000
DTEND;TZID=America/Chicago:20280428T210000
DTSTAMP:20260421T052717
CREATED:20240529T222242Z
LAST-MODIFIED:20240529T222242Z
UID:10003629-1840561200-1840568400@thediveonpatton.com
SUMMARY:FriYAY Bar Bingo!!!
DESCRIPTION:Every Friday is Extreme Bar Bingo\, and your chance to win cash and other prizes! We’ve also got our $6/$8/$10 Pitcher specials all night!
URL:https://thediveonpatton.com/event/friyay-bar-bingo/2028-04-28/
ATTACH;FMTTYPE=image/png:https://thediveonpatton.com/wp-content/uploads/2024/05/Untitled-design_20240529_172150_0000.png
END:VEVENT
BEGIN:VEVENT
DTSTART;TZID=UTC:20280429T220000
DTEND;TZID=UTC:20280430T010000
DTSTAMP:20260421T052717
CREATED:20240529T224607Z
LAST-MODIFIED:20240529T224734Z
UID:10003908-1840658400-1840669200@thediveonpatton.com
SUMMARY:SHOTurday Night and Karaoke!!!
DESCRIPTION:Saturday Nights is time to get singing\, and what better way to warm up those nerves that seltzer and shot specials! Then grace the DOP stage with your favorite rendition of one of your favorite songs!
URL:https://thediveonpatton.com/event/shoturday-night-and-karaoke/2028-04-29/
ATTACH;FMTTYPE=image/png:https://thediveonpatton.com/wp-content/uploads/2024/05/20240117_155829_0000.png
END:VEVENT
BEGIN:VEVENT
DTSTART;TZID=America/Chicago:20280503T180000
DTEND;TZID=America/Chicago:20280504T010000
DTSTAMP:20260421T052717
CREATED:20240124T221024Z
LAST-MODIFIED:20240529T214839Z
UID:10003365-1840989600-1841014800@thediveonpatton.com
SUMMARY:Well Wednesday and Vybes Night!
DESCRIPTION:Come out and enjoy $3 Wells All night\, and enjoy the awesome music of The Vybes! It’s also Jam Session\, so if you play guitar\, drums\, sing\, or whatever\, get up on stage and jam out with The Vybes!
URL:https://thediveonpatton.com/event/wellsday/2028-05-03/
ATTACH;FMTTYPE=image/png:https://thediveonpatton.com/wp-content/uploads/2024/01/Wednesday-Wells_20240117_153139_0000.png
END:VEVENT
BEGIN:VEVENT
DTSTART;TZID=America/Chicago:20280504T213000
DTEND;TZID=America/Chicago:20280504T233000
DTSTAMP:20260421T052717
CREATED:20240109T054649Z
LAST-MODIFIED:20240529T222920Z
UID:10002846-1841088600-1841095800@thediveonpatton.com
SUMMARY:Talk Nerdy To Me with Liquor Pitchers!!!
DESCRIPTION:Talk Nerdy to Me Trivia is now on Thursday nights! Some rounds are general trivia\, some are more for the dirty minded\, all will work your brain a little. And what better way to lubricate your brain\, than with Liquor Pitchers! A massive 48oz pitcher of Long Island\, Margarita\, Sex on the Beach\, or Adios Motherfucker. Balance it out with something from our kitchen or grab something for the Uber home.
URL:https://thediveonpatton.com/event/thursday-2/2028-05-04/
ATTACH;FMTTYPE=image/png:https://thediveonpatton.com/wp-content/uploads/2023/11/20240108_233241_0000.png
END:VEVENT
BEGIN:VEVENT
DTSTART;TZID=America/Chicago:20280505T190000
DTEND;TZID=America/Chicago:20280505T210000
DTSTAMP:20260421T052717
CREATED:20240529T222242Z
LAST-MODIFIED:20240529T222242Z
UID:10003630-1841166000-1841173200@thediveonpatton.com
SUMMARY:FriYAY Bar Bingo!!!
DESCRIPTION:Every Friday is Extreme Bar Bingo\, and your chance to win cash and other prizes! We’ve also got our $6/$8/$10 Pitcher specials all night!
URL:https://thediveonpatton.com/event/friyay-bar-bingo/2028-05-05/
ATTACH;FMTTYPE=image/png:https://thediveonpatton.com/wp-content/uploads/2024/05/Untitled-design_20240529_172150_0000.png
END:VEVENT
BEGIN:VEVENT
DTSTART;TZID=UTC:20280506T220000
DTEND;TZID=UTC:20280507T010000
DTSTAMP:20260421T052717
CREATED:20240529T224607Z
LAST-MODIFIED:20240529T224734Z
UID:10003909-1841263200-1841274000@thediveonpatton.com
SUMMARY:SHOTurday Night and Karaoke!!!
DESCRIPTION:Saturday Nights is time to get singing\, and what better way to warm up those nerves that seltzer and shot specials! Then grace the DOP stage with your favorite rendition of one of your favorite songs!
URL:https://thediveonpatton.com/event/shoturday-night-and-karaoke/2028-05-06/
ATTACH;FMTTYPE=image/png:https://thediveonpatton.com/wp-content/uploads/2024/05/20240117_155829_0000.png
END:VEVENT
END:VCALENDAR