BEGIN:VCALENDAR
VERSION:2.0
PRODID:-//The Dive On Patton - ECPv6.15.20//NONSGML v1.0//EN
CALSCALE:GREGORIAN
METHOD:PUBLISH
X-ORIGINAL-URL:https://thediveonpatton.com
X-WR-CALDESC:Events for The Dive On Patton
REFRESH-INTERVAL;VALUE=DURATION:PT1H
X-Robots-Tag:noindex
X-PUBLISHED-TTL:PT1H
BEGIN:VTIMEZONE
TZID:UTC
BEGIN:STANDARD
TZOFFSETFROM:+0000
TZOFFSETTO:+0000
TZNAME:UTC
DTSTART:20270101T000000
END:STANDARD
END:VTIMEZONE
BEGIN:VTIMEZONE
TZID:America/Chicago
BEGIN:DAYLIGHT
TZOFFSETFROM:-0600
TZOFFSETTO:-0500
TZNAME:CDT
DTSTART:20270314T080000
END:DAYLIGHT
BEGIN:STANDARD
TZOFFSETFROM:-0500
TZOFFSETTO:-0600
TZNAME:CST
DTSTART:20271107T070000
END:STANDARD
BEGIN:DAYLIGHT
TZOFFSETFROM:-0600
TZOFFSETTO:-0500
TZNAME:CDT
DTSTART:20280312T080000
END:DAYLIGHT
BEGIN:STANDARD
TZOFFSETFROM:-0500
TZOFFSETTO:-0600
TZNAME:CST
DTSTART:20281105T070000
END:STANDARD
BEGIN:DAYLIGHT
TZOFFSETFROM:-0600
TZOFFSETTO:-0500
TZNAME:CDT
DTSTART:20290311T080000
END:DAYLIGHT
BEGIN:STANDARD
TZOFFSETFROM:-0500
TZOFFSETTO:-0600
TZNAME:CST
DTSTART:20291104T070000
END:STANDARD
BEGIN:DAYLIGHT
TZOFFSETFROM:-0600
TZOFFSETTO:-0500
TZNAME:CDT
DTSTART:20300310T080000
END:DAYLIGHT
BEGIN:STANDARD
TZOFFSETFROM:-0500
TZOFFSETTO:-0600
TZNAME:CST
DTSTART:20301103T070000
END:STANDARD
END:VTIMEZONE
BEGIN:VEVENT
DTSTART;TZID=UTC:20281209T220000
DTEND;TZID=UTC:20281210T010000
DTSTAMP:20260421T171942
CREATED:20240529T224607Z
LAST-MODIFIED:20240529T224734Z
UID:10003940-1860012000-1860022800@thediveonpatton.com
SUMMARY:SHOTurday Night and Karaoke!!!
DESCRIPTION:Saturday Nights is time to get singing\, and what better way to warm up those nerves that seltzer and shot specials! Then grace the DOP stage with your favorite rendition of one of your favorite songs!
URL:https://thediveonpatton.com/event/shoturday-night-and-karaoke/2028-12-09/
ATTACH;FMTTYPE=image/png:https://thediveonpatton.com/wp-content/uploads/2024/05/20240117_155829_0000.png
END:VEVENT
BEGIN:VEVENT
DTSTART;TZID=America/Chicago:20281213T180000
DTEND;TZID=America/Chicago:20281214T010000
DTSTAMP:20260421T171942
CREATED:20240124T221024Z
LAST-MODIFIED:20240529T214839Z
UID:10003397-1860343200-1860368400@thediveonpatton.com
SUMMARY:Well Wednesday and Vybes Night!
DESCRIPTION:Come out and enjoy $3 Wells All night\, and enjoy the awesome music of The Vybes! It’s also Jam Session\, so if you play guitar\, drums\, sing\, or whatever\, get up on stage and jam out with The Vybes!
URL:https://thediveonpatton.com/event/wellsday/2028-12-13/
ATTACH;FMTTYPE=image/png:https://thediveonpatton.com/wp-content/uploads/2024/01/Wednesday-Wells_20240117_153139_0000.png
END:VEVENT
BEGIN:VEVENT
DTSTART;TZID=America/Chicago:20281214T213000
DTEND;TZID=America/Chicago:20281214T233000
DTSTAMP:20260421T171942
CREATED:20240109T054649Z
LAST-MODIFIED:20240529T222920Z
UID:10002878-1860442200-1860449400@thediveonpatton.com
SUMMARY:Talk Nerdy To Me with Liquor Pitchers!!!
DESCRIPTION:Talk Nerdy to Me Trivia is now on Thursday nights! Some rounds are general trivia\, some are more for the dirty minded\, all will work your brain a little. And what better way to lubricate your brain\, than with Liquor Pitchers! A massive 48oz pitcher of Long Island\, Margarita\, Sex on the Beach\, or Adios Motherfucker. Balance it out with something from our kitchen or grab something for the Uber home.
URL:https://thediveonpatton.com/event/thursday-2/2028-12-14/
ATTACH;FMTTYPE=image/png:https://thediveonpatton.com/wp-content/uploads/2023/11/20240108_233241_0000.png
END:VEVENT
BEGIN:VEVENT
DTSTART;TZID=America/Chicago:20281215T190000
DTEND;TZID=America/Chicago:20281215T210000
DTSTAMP:20260421T171942
CREATED:20240529T222242Z
LAST-MODIFIED:20240529T222242Z
UID:10003662-1860519600-1860526800@thediveonpatton.com
SUMMARY:FriYAY Bar Bingo!!!
DESCRIPTION:Every Friday is Extreme Bar Bingo\, and your chance to win cash and other prizes! We’ve also got our $6/$8/$10 Pitcher specials all night!
URL:https://thediveonpatton.com/event/friyay-bar-bingo/2028-12-15/
ATTACH;FMTTYPE=image/png:https://thediveonpatton.com/wp-content/uploads/2024/05/Untitled-design_20240529_172150_0000.png
END:VEVENT
BEGIN:VEVENT
DTSTART;TZID=UTC:20281216T220000
DTEND;TZID=UTC:20281217T010000
DTSTAMP:20260421T171942
CREATED:20240529T224607Z
LAST-MODIFIED:20240529T224734Z
UID:10003941-1860616800-1860627600@thediveonpatton.com
SUMMARY:SHOTurday Night and Karaoke!!!
DESCRIPTION:Saturday Nights is time to get singing\, and what better way to warm up those nerves that seltzer and shot specials! Then grace the DOP stage with your favorite rendition of one of your favorite songs!
URL:https://thediveonpatton.com/event/shoturday-night-and-karaoke/2028-12-16/
ATTACH;FMTTYPE=image/png:https://thediveonpatton.com/wp-content/uploads/2024/05/20240117_155829_0000.png
END:VEVENT
BEGIN:VEVENT
DTSTART;TZID=America/Chicago:20281220T180000
DTEND;TZID=America/Chicago:20281221T010000
DTSTAMP:20260421T171942
CREATED:20240124T221024Z
LAST-MODIFIED:20240529T214839Z
UID:10003398-1860948000-1860973200@thediveonpatton.com
SUMMARY:Well Wednesday and Vybes Night!
DESCRIPTION:Come out and enjoy $3 Wells All night\, and enjoy the awesome music of The Vybes! It’s also Jam Session\, so if you play guitar\, drums\, sing\, or whatever\, get up on stage and jam out with The Vybes!
URL:https://thediveonpatton.com/event/wellsday/2028-12-20/
ATTACH;FMTTYPE=image/png:https://thediveonpatton.com/wp-content/uploads/2024/01/Wednesday-Wells_20240117_153139_0000.png
END:VEVENT
BEGIN:VEVENT
DTSTART;TZID=America/Chicago:20281221T213000
DTEND;TZID=America/Chicago:20281221T233000
DTSTAMP:20260421T171942
CREATED:20240109T054649Z
LAST-MODIFIED:20240529T222920Z
UID:10002879-1861047000-1861054200@thediveonpatton.com
SUMMARY:Talk Nerdy To Me with Liquor Pitchers!!!
DESCRIPTION:Talk Nerdy to Me Trivia is now on Thursday nights! Some rounds are general trivia\, some are more for the dirty minded\, all will work your brain a little. And what better way to lubricate your brain\, than with Liquor Pitchers! A massive 48oz pitcher of Long Island\, Margarita\, Sex on the Beach\, or Adios Motherfucker. Balance it out with something from our kitchen or grab something for the Uber home.
URL:https://thediveonpatton.com/event/thursday-2/2028-12-21/
ATTACH;FMTTYPE=image/png:https://thediveonpatton.com/wp-content/uploads/2023/11/20240108_233241_0000.png
END:VEVENT
BEGIN:VEVENT
DTSTART;TZID=America/Chicago:20281222T190000
DTEND;TZID=America/Chicago:20281222T210000
DTSTAMP:20260421T171942
CREATED:20240529T222242Z
LAST-MODIFIED:20240529T222242Z
UID:10003663-1861124400-1861131600@thediveonpatton.com
SUMMARY:FriYAY Bar Bingo!!!
DESCRIPTION:Every Friday is Extreme Bar Bingo\, and your chance to win cash and other prizes! We’ve also got our $6/$8/$10 Pitcher specials all night!
URL:https://thediveonpatton.com/event/friyay-bar-bingo/2028-12-22/
ATTACH;FMTTYPE=image/png:https://thediveonpatton.com/wp-content/uploads/2024/05/Untitled-design_20240529_172150_0000.png
END:VEVENT
BEGIN:VEVENT
DTSTART;TZID=UTC:20281223T220000
DTEND;TZID=UTC:20281224T010000
DTSTAMP:20260421T171942
CREATED:20240529T224607Z
LAST-MODIFIED:20240529T224734Z
UID:10003942-1861221600-1861232400@thediveonpatton.com
SUMMARY:SHOTurday Night and Karaoke!!!
DESCRIPTION:Saturday Nights is time to get singing\, and what better way to warm up those nerves that seltzer and shot specials! Then grace the DOP stage with your favorite rendition of one of your favorite songs!
URL:https://thediveonpatton.com/event/shoturday-night-and-karaoke/2028-12-23/
ATTACH;FMTTYPE=image/png:https://thediveonpatton.com/wp-content/uploads/2024/05/20240117_155829_0000.png
END:VEVENT
BEGIN:VEVENT
DTSTART;TZID=America/Chicago:20281227T180000
DTEND;TZID=America/Chicago:20281228T010000
DTSTAMP:20260421T171942
CREATED:20240124T221024Z
LAST-MODIFIED:20240529T214839Z
UID:10003399-1861552800-1861578000@thediveonpatton.com
SUMMARY:Well Wednesday and Vybes Night!
DESCRIPTION:Come out and enjoy $3 Wells All night\, and enjoy the awesome music of The Vybes! It’s also Jam Session\, so if you play guitar\, drums\, sing\, or whatever\, get up on stage and jam out with The Vybes!
URL:https://thediveonpatton.com/event/wellsday/2028-12-27/
ATTACH;FMTTYPE=image/png:https://thediveonpatton.com/wp-content/uploads/2024/01/Wednesday-Wells_20240117_153139_0000.png
END:VEVENT
BEGIN:VEVENT
DTSTART;TZID=America/Chicago:20281228T213000
DTEND;TZID=America/Chicago:20281228T233000
DTSTAMP:20260421T171942
CREATED:20240109T054649Z
LAST-MODIFIED:20240529T222920Z
UID:10002880-1861651800-1861659000@thediveonpatton.com
SUMMARY:Talk Nerdy To Me with Liquor Pitchers!!!
DESCRIPTION:Talk Nerdy to Me Trivia is now on Thursday nights! Some rounds are general trivia\, some are more for the dirty minded\, all will work your brain a little. And what better way to lubricate your brain\, than with Liquor Pitchers! A massive 48oz pitcher of Long Island\, Margarita\, Sex on the Beach\, or Adios Motherfucker. Balance it out with something from our kitchen or grab something for the Uber home.
URL:https://thediveonpatton.com/event/thursday-2/2028-12-28/
ATTACH;FMTTYPE=image/png:https://thediveonpatton.com/wp-content/uploads/2023/11/20240108_233241_0000.png
END:VEVENT
BEGIN:VEVENT
DTSTART;TZID=America/Chicago:20281229T190000
DTEND;TZID=America/Chicago:20281229T210000
DTSTAMP:20260421T171942
CREATED:20240529T222242Z
LAST-MODIFIED:20240529T222242Z
UID:10003664-1861729200-1861736400@thediveonpatton.com
SUMMARY:FriYAY Bar Bingo!!!
DESCRIPTION:Every Friday is Extreme Bar Bingo\, and your chance to win cash and other prizes! We’ve also got our $6/$8/$10 Pitcher specials all night!
URL:https://thediveonpatton.com/event/friyay-bar-bingo/2028-12-29/
ATTACH;FMTTYPE=image/png:https://thediveonpatton.com/wp-content/uploads/2024/05/Untitled-design_20240529_172150_0000.png
END:VEVENT
BEGIN:VEVENT
DTSTART;TZID=UTC:20281230T220000
DTEND;TZID=UTC:20281231T010000
DTSTAMP:20260421T171942
CREATED:20240529T224607Z
LAST-MODIFIED:20240529T224734Z
UID:10003943-1861826400-1861837200@thediveonpatton.com
SUMMARY:SHOTurday Night and Karaoke!!!
DESCRIPTION:Saturday Nights is time to get singing\, and what better way to warm up those nerves that seltzer and shot specials! Then grace the DOP stage with your favorite rendition of one of your favorite songs!
URL:https://thediveonpatton.com/event/shoturday-night-and-karaoke/2028-12-30/
ATTACH;FMTTYPE=image/png:https://thediveonpatton.com/wp-content/uploads/2024/05/20240117_155829_0000.png
END:VEVENT
BEGIN:VEVENT
DTSTART;TZID=America/Chicago:20290103T180000
DTEND;TZID=America/Chicago:20290104T010000
DTSTAMP:20260421T171942
CREATED:20240124T221024Z
LAST-MODIFIED:20240529T214839Z
UID:10003400-1862157600-1862182800@thediveonpatton.com
SUMMARY:Well Wednesday and Vybes Night!
DESCRIPTION:Come out and enjoy $3 Wells All night\, and enjoy the awesome music of The Vybes! It’s also Jam Session\, so if you play guitar\, drums\, sing\, or whatever\, get up on stage and jam out with The Vybes!
URL:https://thediveonpatton.com/event/wellsday/2029-01-03/
ATTACH;FMTTYPE=image/png:https://thediveonpatton.com/wp-content/uploads/2024/01/Wednesday-Wells_20240117_153139_0000.png
END:VEVENT
BEGIN:VEVENT
DTSTART;TZID=America/Chicago:20290104T213000
DTEND;TZID=America/Chicago:20290104T233000
DTSTAMP:20260421T171942
CREATED:20240109T054649Z
LAST-MODIFIED:20240529T222920Z
UID:10002881-1862256600-1862263800@thediveonpatton.com
SUMMARY:Talk Nerdy To Me with Liquor Pitchers!!!
DESCRIPTION:Talk Nerdy to Me Trivia is now on Thursday nights! Some rounds are general trivia\, some are more for the dirty minded\, all will work your brain a little. And what better way to lubricate your brain\, than with Liquor Pitchers! A massive 48oz pitcher of Long Island\, Margarita\, Sex on the Beach\, or Adios Motherfucker. Balance it out with something from our kitchen or grab something for the Uber home.
URL:https://thediveonpatton.com/event/thursday-2/2029-01-04/
ATTACH;FMTTYPE=image/png:https://thediveonpatton.com/wp-content/uploads/2023/11/20240108_233241_0000.png
END:VEVENT
BEGIN:VEVENT
DTSTART;TZID=America/Chicago:20290105T190000
DTEND;TZID=America/Chicago:20290105T210000
DTSTAMP:20260421T171942
CREATED:20240529T222242Z
LAST-MODIFIED:20240529T222242Z
UID:10003665-1862334000-1862341200@thediveonpatton.com
SUMMARY:FriYAY Bar Bingo!!!
DESCRIPTION:Every Friday is Extreme Bar Bingo\, and your chance to win cash and other prizes! We’ve also got our $6/$8/$10 Pitcher specials all night!
URL:https://thediveonpatton.com/event/friyay-bar-bingo/2029-01-05/
ATTACH;FMTTYPE=image/png:https://thediveonpatton.com/wp-content/uploads/2024/05/Untitled-design_20240529_172150_0000.png
END:VEVENT
BEGIN:VEVENT
DTSTART;TZID=UTC:20290106T220000
DTEND;TZID=UTC:20290107T010000
DTSTAMP:20260421T171942
CREATED:20240529T224607Z
LAST-MODIFIED:20240529T224734Z
UID:10003944-1862431200-1862442000@thediveonpatton.com
SUMMARY:SHOTurday Night and Karaoke!!!
DESCRIPTION:Saturday Nights is time to get singing\, and what better way to warm up those nerves that seltzer and shot specials! Then grace the DOP stage with your favorite rendition of one of your favorite songs!
URL:https://thediveonpatton.com/event/shoturday-night-and-karaoke/2029-01-06/
ATTACH;FMTTYPE=image/png:https://thediveonpatton.com/wp-content/uploads/2024/05/20240117_155829_0000.png
END:VEVENT
BEGIN:VEVENT
DTSTART;TZID=America/Chicago:20290110T180000
DTEND;TZID=America/Chicago:20290111T010000
DTSTAMP:20260421T171942
CREATED:20240124T221024Z
LAST-MODIFIED:20240529T214839Z
UID:10003401-1862762400-1862787600@thediveonpatton.com
SUMMARY:Well Wednesday and Vybes Night!
DESCRIPTION:Come out and enjoy $3 Wells All night\, and enjoy the awesome music of The Vybes! It’s also Jam Session\, so if you play guitar\, drums\, sing\, or whatever\, get up on stage and jam out with The Vybes!
URL:https://thediveonpatton.com/event/wellsday/2029-01-10/
ATTACH;FMTTYPE=image/png:https://thediveonpatton.com/wp-content/uploads/2024/01/Wednesday-Wells_20240117_153139_0000.png
END:VEVENT
BEGIN:VEVENT
DTSTART;TZID=America/Chicago:20290111T213000
DTEND;TZID=America/Chicago:20290111T233000
DTSTAMP:20260421T171942
CREATED:20240109T054649Z
LAST-MODIFIED:20240529T222920Z
UID:10003404-1862861400-1862868600@thediveonpatton.com
SUMMARY:Talk Nerdy To Me with Liquor Pitchers!!!
DESCRIPTION:Talk Nerdy to Me Trivia is now on Thursday nights! Some rounds are general trivia\, some are more for the dirty minded\, all will work your brain a little. And what better way to lubricate your brain\, than with Liquor Pitchers! A massive 48oz pitcher of Long Island\, Margarita\, Sex on the Beach\, or Adios Motherfucker. Balance it out with something from our kitchen or grab something for the Uber home.
URL:https://thediveonpatton.com/event/thursday-2/2029-01-11/
ATTACH;FMTTYPE=image/png:https://thediveonpatton.com/wp-content/uploads/2023/11/20240108_233241_0000.png
END:VEVENT
BEGIN:VEVENT
DTSTART;TZID=America/Chicago:20290112T190000
DTEND;TZID=America/Chicago:20290112T210000
DTSTAMP:20260421T171942
CREATED:20240529T222242Z
LAST-MODIFIED:20240529T222242Z
UID:10003666-1862938800-1862946000@thediveonpatton.com
SUMMARY:FriYAY Bar Bingo!!!
DESCRIPTION:Every Friday is Extreme Bar Bingo\, and your chance to win cash and other prizes! We’ve also got our $6/$8/$10 Pitcher specials all night!
URL:https://thediveonpatton.com/event/friyay-bar-bingo/2029-01-12/
ATTACH;FMTTYPE=image/png:https://thediveonpatton.com/wp-content/uploads/2024/05/Untitled-design_20240529_172150_0000.png
END:VEVENT
BEGIN:VEVENT
DTSTART;TZID=UTC:20290113T220000
DTEND;TZID=UTC:20290114T010000
DTSTAMP:20260421T171942
CREATED:20240529T224607Z
LAST-MODIFIED:20240529T224734Z
UID:10003945-1863036000-1863046800@thediveonpatton.com
SUMMARY:SHOTurday Night and Karaoke!!!
DESCRIPTION:Saturday Nights is time to get singing\, and what better way to warm up those nerves that seltzer and shot specials! Then grace the DOP stage with your favorite rendition of one of your favorite songs!
URL:https://thediveonpatton.com/event/shoturday-night-and-karaoke/2029-01-13/
ATTACH;FMTTYPE=image/png:https://thediveonpatton.com/wp-content/uploads/2024/05/20240117_155829_0000.png
END:VEVENT
BEGIN:VEVENT
DTSTART;TZID=America/Chicago:20290117T180000
DTEND;TZID=America/Chicago:20290118T010000
DTSTAMP:20260421T171942
CREATED:20240124T221024Z
LAST-MODIFIED:20240529T214839Z
UID:10003402-1863367200-1863392400@thediveonpatton.com
SUMMARY:Well Wednesday and Vybes Night!
DESCRIPTION:Come out and enjoy $3 Wells All night\, and enjoy the awesome music of The Vybes! It’s also Jam Session\, so if you play guitar\, drums\, sing\, or whatever\, get up on stage and jam out with The Vybes!
URL:https://thediveonpatton.com/event/wellsday/2029-01-17/
ATTACH;FMTTYPE=image/png:https://thediveonpatton.com/wp-content/uploads/2024/01/Wednesday-Wells_20240117_153139_0000.png
END:VEVENT
BEGIN:VEVENT
DTSTART;TZID=America/Chicago:20290118T213000
DTEND;TZID=America/Chicago:20290118T233000
DTSTAMP:20260421T171942
CREATED:20240109T054649Z
LAST-MODIFIED:20240529T222920Z
UID:10003405-1863466200-1863473400@thediveonpatton.com
SUMMARY:Talk Nerdy To Me with Liquor Pitchers!!!
DESCRIPTION:Talk Nerdy to Me Trivia is now on Thursday nights! Some rounds are general trivia\, some are more for the dirty minded\, all will work your brain a little. And what better way to lubricate your brain\, than with Liquor Pitchers! A massive 48oz pitcher of Long Island\, Margarita\, Sex on the Beach\, or Adios Motherfucker. Balance it out with something from our kitchen or grab something for the Uber home.
URL:https://thediveonpatton.com/event/thursday-2/2029-01-18/
ATTACH;FMTTYPE=image/png:https://thediveonpatton.com/wp-content/uploads/2023/11/20240108_233241_0000.png
END:VEVENT
BEGIN:VEVENT
DTSTART;TZID=America/Chicago:20290119T190000
DTEND;TZID=America/Chicago:20290119T210000
DTSTAMP:20260421T171942
CREATED:20240529T222242Z
LAST-MODIFIED:20240529T222242Z
UID:10003667-1863543600-1863550800@thediveonpatton.com
SUMMARY:FriYAY Bar Bingo!!!
DESCRIPTION:Every Friday is Extreme Bar Bingo\, and your chance to win cash and other prizes! We’ve also got our $6/$8/$10 Pitcher specials all night!
URL:https://thediveonpatton.com/event/friyay-bar-bingo/2029-01-19/
ATTACH;FMTTYPE=image/png:https://thediveonpatton.com/wp-content/uploads/2024/05/Untitled-design_20240529_172150_0000.png
END:VEVENT
BEGIN:VEVENT
DTSTART;TZID=UTC:20290120T220000
DTEND;TZID=UTC:20290121T010000
DTSTAMP:20260421T171942
CREATED:20240529T224607Z
LAST-MODIFIED:20240529T224734Z
UID:10003946-1863640800-1863651600@thediveonpatton.com
SUMMARY:SHOTurday Night and Karaoke!!!
DESCRIPTION:Saturday Nights is time to get singing\, and what better way to warm up those nerves that seltzer and shot specials! Then grace the DOP stage with your favorite rendition of one of your favorite songs!
URL:https://thediveonpatton.com/event/shoturday-night-and-karaoke/2029-01-20/
ATTACH;FMTTYPE=image/png:https://thediveonpatton.com/wp-content/uploads/2024/05/20240117_155829_0000.png
END:VEVENT
BEGIN:VEVENT
DTSTART;TZID=America/Chicago:20290124T180000
DTEND;TZID=America/Chicago:20290125T010000
DTSTAMP:20260421T171942
CREATED:20240124T221024Z
LAST-MODIFIED:20240529T214839Z
UID:10003403-1863972000-1863997200@thediveonpatton.com
SUMMARY:Well Wednesday and Vybes Night!
DESCRIPTION:Come out and enjoy $3 Wells All night\, and enjoy the awesome music of The Vybes! It’s also Jam Session\, so if you play guitar\, drums\, sing\, or whatever\, get up on stage and jam out with The Vybes!
URL:https://thediveonpatton.com/event/wellsday/2029-01-24/
ATTACH;FMTTYPE=image/png:https://thediveonpatton.com/wp-content/uploads/2024/01/Wednesday-Wells_20240117_153139_0000.png
END:VEVENT
BEGIN:VEVENT
DTSTART;TZID=America/Chicago:20290125T213000
DTEND;TZID=America/Chicago:20290125T233000
DTSTAMP:20260421T171942
CREATED:20240109T054649Z
LAST-MODIFIED:20240529T222920Z
UID:10003686-1864071000-1864078200@thediveonpatton.com
SUMMARY:Talk Nerdy To Me with Liquor Pitchers!!!
DESCRIPTION:Talk Nerdy to Me Trivia is now on Thursday nights! Some rounds are general trivia\, some are more for the dirty minded\, all will work your brain a little. And what better way to lubricate your brain\, than with Liquor Pitchers! A massive 48oz pitcher of Long Island\, Margarita\, Sex on the Beach\, or Adios Motherfucker. Balance it out with something from our kitchen or grab something for the Uber home.
URL:https://thediveonpatton.com/event/thursday-2/2029-01-25/
ATTACH;FMTTYPE=image/png:https://thediveonpatton.com/wp-content/uploads/2023/11/20240108_233241_0000.png
END:VEVENT
BEGIN:VEVENT
DTSTART;TZID=America/Chicago:20290126T190000
DTEND;TZID=America/Chicago:20290126T210000
DTSTAMP:20260421T171942
CREATED:20240529T222242Z
LAST-MODIFIED:20240529T222242Z
UID:10003668-1864148400-1864155600@thediveonpatton.com
SUMMARY:FriYAY Bar Bingo!!!
DESCRIPTION:Every Friday is Extreme Bar Bingo\, and your chance to win cash and other prizes! We’ve also got our $6/$8/$10 Pitcher specials all night!
URL:https://thediveonpatton.com/event/friyay-bar-bingo/2029-01-26/
ATTACH;FMTTYPE=image/png:https://thediveonpatton.com/wp-content/uploads/2024/05/Untitled-design_20240529_172150_0000.png
END:VEVENT
BEGIN:VEVENT
DTSTART;TZID=UTC:20290127T220000
DTEND;TZID=UTC:20290128T010000
DTSTAMP:20260421T171942
CREATED:20240529T224607Z
LAST-MODIFIED:20240529T224734Z
UID:10003947-1864245600-1864256400@thediveonpatton.com
SUMMARY:SHOTurday Night and Karaoke!!!
DESCRIPTION:Saturday Nights is time to get singing\, and what better way to warm up those nerves that seltzer and shot specials! Then grace the DOP stage with your favorite rendition of one of your favorite songs!
URL:https://thediveonpatton.com/event/shoturday-night-and-karaoke/2029-01-27/
ATTACH;FMTTYPE=image/png:https://thediveonpatton.com/wp-content/uploads/2024/05/20240117_155829_0000.png
END:VEVENT
BEGIN:VEVENT
DTSTART;TZID=America/Chicago:20290131T180000
DTEND;TZID=America/Chicago:20290201T010000
DTSTAMP:20260421T171942
CREATED:20240124T221024Z
LAST-MODIFIED:20240529T214839Z
UID:10003408-1864576800-1864602000@thediveonpatton.com
SUMMARY:Well Wednesday and Vybes Night!
DESCRIPTION:Come out and enjoy $3 Wells All night\, and enjoy the awesome music of The Vybes! It’s also Jam Session\, so if you play guitar\, drums\, sing\, or whatever\, get up on stage and jam out with The Vybes!
URL:https://thediveonpatton.com/event/wellsday/2029-01-31/
ATTACH;FMTTYPE=image/png:https://thediveonpatton.com/wp-content/uploads/2024/01/Wednesday-Wells_20240117_153139_0000.png
END:VEVENT
END:VCALENDAR