BEGIN:VCALENDAR
VERSION:2.0
PRODID:-//The Dive On Patton - ECPv6.15.20//NONSGML v1.0//EN
CALSCALE:GREGORIAN
METHOD:PUBLISH
X-WR-CALNAME:The Dive On Patton
X-ORIGINAL-URL:https://thediveonpatton.com
X-WR-CALDESC:Events for The Dive On Patton
REFRESH-INTERVAL;VALUE=DURATION:PT1H
X-Robots-Tag:noindex
X-PUBLISHED-TTL:PT1H
BEGIN:VTIMEZONE
TZID:America/Chicago
BEGIN:DAYLIGHT
TZOFFSETFROM:-0600
TZOFFSETTO:-0500
TZNAME:CDT
DTSTART:20280312T080000
END:DAYLIGHT
BEGIN:STANDARD
TZOFFSETFROM:-0500
TZOFFSETTO:-0600
TZNAME:CST
DTSTART:20281105T070000
END:STANDARD
BEGIN:DAYLIGHT
TZOFFSETFROM:-0600
TZOFFSETTO:-0500
TZNAME:CDT
DTSTART:20290311T080000
END:DAYLIGHT
BEGIN:STANDARD
TZOFFSETFROM:-0500
TZOFFSETTO:-0600
TZNAME:CST
DTSTART:20291104T070000
END:STANDARD
BEGIN:DAYLIGHT
TZOFFSETFROM:-0600
TZOFFSETTO:-0500
TZNAME:CDT
DTSTART:20300310T080000
END:DAYLIGHT
BEGIN:STANDARD
TZOFFSETFROM:-0500
TZOFFSETTO:-0600
TZNAME:CST
DTSTART:20301103T070000
END:STANDARD
END:VTIMEZONE
BEGIN:VTIMEZONE
TZID:UTC
BEGIN:STANDARD
TZOFFSETFROM:+0000
TZOFFSETTO:+0000
TZNAME:UTC
DTSTART:20280101T000000
END:STANDARD
END:VTIMEZONE
BEGIN:VEVENT
DTSTART;TZID=America/Chicago:20290119T190000
DTEND;TZID=America/Chicago:20290119T210000
DTSTAMP:20260422T225044
CREATED:20240529T222242Z
LAST-MODIFIED:20240529T222242Z
UID:10003667-1863543600-1863550800@thediveonpatton.com
SUMMARY:FriYAY Bar Bingo!!!
DESCRIPTION:Every Friday is Extreme Bar Bingo\, and your chance to win cash and other prizes! We’ve also got our $6/$8/$10 Pitcher specials all night!
URL:https://thediveonpatton.com/event/friyay-bar-bingo/2029-01-19/
ATTACH;FMTTYPE=image/png:https://thediveonpatton.com/wp-content/uploads/2024/05/Untitled-design_20240529_172150_0000.png
END:VEVENT
BEGIN:VEVENT
DTSTART;TZID=UTC:20290120T220000
DTEND;TZID=UTC:20290121T010000
DTSTAMP:20260422T225044
CREATED:20240529T224607Z
LAST-MODIFIED:20240529T224734Z
UID:10003946-1863640800-1863651600@thediveonpatton.com
SUMMARY:SHOTurday Night and Karaoke!!!
DESCRIPTION:Saturday Nights is time to get singing\, and what better way to warm up those nerves that seltzer and shot specials! Then grace the DOP stage with your favorite rendition of one of your favorite songs!
URL:https://thediveonpatton.com/event/shoturday-night-and-karaoke/2029-01-20/
ATTACH;FMTTYPE=image/png:https://thediveonpatton.com/wp-content/uploads/2024/05/20240117_155829_0000.png
END:VEVENT
BEGIN:VEVENT
DTSTART;TZID=America/Chicago:20290124T180000
DTEND;TZID=America/Chicago:20290125T010000
DTSTAMP:20260422T225044
CREATED:20240124T221024Z
LAST-MODIFIED:20240529T214839Z
UID:10003403-1863972000-1863997200@thediveonpatton.com
SUMMARY:Well Wednesday and Vybes Night!
DESCRIPTION:Come out and enjoy $3 Wells All night\, and enjoy the awesome music of The Vybes! It’s also Jam Session\, so if you play guitar\, drums\, sing\, or whatever\, get up on stage and jam out with The Vybes!
URL:https://thediveonpatton.com/event/wellsday/2029-01-24/
ATTACH;FMTTYPE=image/png:https://thediveonpatton.com/wp-content/uploads/2024/01/Wednesday-Wells_20240117_153139_0000.png
END:VEVENT
BEGIN:VEVENT
DTSTART;TZID=America/Chicago:20290125T213000
DTEND;TZID=America/Chicago:20290125T233000
DTSTAMP:20260422T225044
CREATED:20240109T054649Z
LAST-MODIFIED:20240529T222920Z
UID:10003686-1864071000-1864078200@thediveonpatton.com
SUMMARY:Talk Nerdy To Me with Liquor Pitchers!!!
DESCRIPTION:Talk Nerdy to Me Trivia is now on Thursday nights! Some rounds are general trivia\, some are more for the dirty minded\, all will work your brain a little. And what better way to lubricate your brain\, than with Liquor Pitchers! A massive 48oz pitcher of Long Island\, Margarita\, Sex on the Beach\, or Adios Motherfucker. Balance it out with something from our kitchen or grab something for the Uber home.
URL:https://thediveonpatton.com/event/thursday-2/2029-01-25/
ATTACH;FMTTYPE=image/png:https://thediveonpatton.com/wp-content/uploads/2023/11/20240108_233241_0000.png
END:VEVENT
BEGIN:VEVENT
DTSTART;TZID=America/Chicago:20290126T190000
DTEND;TZID=America/Chicago:20290126T210000
DTSTAMP:20260422T225044
CREATED:20240529T222242Z
LAST-MODIFIED:20240529T222242Z
UID:10003668-1864148400-1864155600@thediveonpatton.com
SUMMARY:FriYAY Bar Bingo!!!
DESCRIPTION:Every Friday is Extreme Bar Bingo\, and your chance to win cash and other prizes! We’ve also got our $6/$8/$10 Pitcher specials all night!
URL:https://thediveonpatton.com/event/friyay-bar-bingo/2029-01-26/
ATTACH;FMTTYPE=image/png:https://thediveonpatton.com/wp-content/uploads/2024/05/Untitled-design_20240529_172150_0000.png
END:VEVENT
BEGIN:VEVENT
DTSTART;TZID=UTC:20290127T220000
DTEND;TZID=UTC:20290128T010000
DTSTAMP:20260422T225044
CREATED:20240529T224607Z
LAST-MODIFIED:20240529T224734Z
UID:10003947-1864245600-1864256400@thediveonpatton.com
SUMMARY:SHOTurday Night and Karaoke!!!
DESCRIPTION:Saturday Nights is time to get singing\, and what better way to warm up those nerves that seltzer and shot specials! Then grace the DOP stage with your favorite rendition of one of your favorite songs!
URL:https://thediveonpatton.com/event/shoturday-night-and-karaoke/2029-01-27/
ATTACH;FMTTYPE=image/png:https://thediveonpatton.com/wp-content/uploads/2024/05/20240117_155829_0000.png
END:VEVENT
BEGIN:VEVENT
DTSTART;TZID=America/Chicago:20290131T180000
DTEND;TZID=America/Chicago:20290201T010000
DTSTAMP:20260422T225044
CREATED:20240124T221024Z
LAST-MODIFIED:20240529T214839Z
UID:10003408-1864576800-1864602000@thediveonpatton.com
SUMMARY:Well Wednesday and Vybes Night!
DESCRIPTION:Come out and enjoy $3 Wells All night\, and enjoy the awesome music of The Vybes! It’s also Jam Session\, so if you play guitar\, drums\, sing\, or whatever\, get up on stage and jam out with The Vybes!
URL:https://thediveonpatton.com/event/wellsday/2029-01-31/
ATTACH;FMTTYPE=image/png:https://thediveonpatton.com/wp-content/uploads/2024/01/Wednesday-Wells_20240117_153139_0000.png
END:VEVENT
BEGIN:VEVENT
DTSTART;TZID=America/Chicago:20290201T213000
DTEND;TZID=America/Chicago:20290201T233000
DTSTAMP:20260422T225044
CREATED:20240109T054649Z
LAST-MODIFIED:20240529T222920Z
UID:10003687-1864675800-1864683000@thediveonpatton.com
SUMMARY:Talk Nerdy To Me with Liquor Pitchers!!!
DESCRIPTION:Talk Nerdy to Me Trivia is now on Thursday nights! Some rounds are general trivia\, some are more for the dirty minded\, all will work your brain a little. And what better way to lubricate your brain\, than with Liquor Pitchers! A massive 48oz pitcher of Long Island\, Margarita\, Sex on the Beach\, or Adios Motherfucker. Balance it out with something from our kitchen or grab something for the Uber home.
URL:https://thediveonpatton.com/event/thursday-2/2029-02-01/
ATTACH;FMTTYPE=image/png:https://thediveonpatton.com/wp-content/uploads/2023/11/20240108_233241_0000.png
END:VEVENT
BEGIN:VEVENT
DTSTART;TZID=America/Chicago:20290202T190000
DTEND;TZID=America/Chicago:20290202T210000
DTSTAMP:20260422T225044
CREATED:20240529T222242Z
LAST-MODIFIED:20240529T222242Z
UID:10003669-1864753200-1864760400@thediveonpatton.com
SUMMARY:FriYAY Bar Bingo!!!
DESCRIPTION:Every Friday is Extreme Bar Bingo\, and your chance to win cash and other prizes! We’ve also got our $6/$8/$10 Pitcher specials all night!
URL:https://thediveonpatton.com/event/friyay-bar-bingo/2029-02-02/
ATTACH;FMTTYPE=image/png:https://thediveonpatton.com/wp-content/uploads/2024/05/Untitled-design_20240529_172150_0000.png
END:VEVENT
BEGIN:VEVENT
DTSTART;TZID=UTC:20290203T220000
DTEND;TZID=UTC:20290204T010000
DTSTAMP:20260422T225044
CREATED:20240529T224607Z
LAST-MODIFIED:20240529T224734Z
UID:10003948-1864850400-1864861200@thediveonpatton.com
SUMMARY:SHOTurday Night and Karaoke!!!
DESCRIPTION:Saturday Nights is time to get singing\, and what better way to warm up those nerves that seltzer and shot specials! Then grace the DOP stage with your favorite rendition of one of your favorite songs!
URL:https://thediveonpatton.com/event/shoturday-night-and-karaoke/2029-02-03/
ATTACH;FMTTYPE=image/png:https://thediveonpatton.com/wp-content/uploads/2024/05/20240117_155829_0000.png
END:VEVENT
BEGIN:VEVENT
DTSTART;TZID=America/Chicago:20290207T180000
DTEND;TZID=America/Chicago:20290208T010000
DTSTAMP:20260422T225044
CREATED:20240124T221024Z
LAST-MODIFIED:20240529T214839Z
UID:10003409-1865181600-1865206800@thediveonpatton.com
SUMMARY:Well Wednesday and Vybes Night!
DESCRIPTION:Come out and enjoy $3 Wells All night\, and enjoy the awesome music of The Vybes! It’s also Jam Session\, so if you play guitar\, drums\, sing\, or whatever\, get up on stage and jam out with The Vybes!
URL:https://thediveonpatton.com/event/wellsday/2029-02-07/
ATTACH;FMTTYPE=image/png:https://thediveonpatton.com/wp-content/uploads/2024/01/Wednesday-Wells_20240117_153139_0000.png
END:VEVENT
BEGIN:VEVENT
DTSTART;TZID=America/Chicago:20290208T213000
DTEND;TZID=America/Chicago:20290208T233000
DTSTAMP:20260422T225044
CREATED:20240109T054649Z
LAST-MODIFIED:20240529T222920Z
UID:10003688-1865280600-1865287800@thediveonpatton.com
SUMMARY:Talk Nerdy To Me with Liquor Pitchers!!!
DESCRIPTION:Talk Nerdy to Me Trivia is now on Thursday nights! Some rounds are general trivia\, some are more for the dirty minded\, all will work your brain a little. And what better way to lubricate your brain\, than with Liquor Pitchers! A massive 48oz pitcher of Long Island\, Margarita\, Sex on the Beach\, or Adios Motherfucker. Balance it out with something from our kitchen or grab something for the Uber home.
URL:https://thediveonpatton.com/event/thursday-2/2029-02-08/
ATTACH;FMTTYPE=image/png:https://thediveonpatton.com/wp-content/uploads/2023/11/20240108_233241_0000.png
END:VEVENT
BEGIN:VEVENT
DTSTART;TZID=America/Chicago:20290209T190000
DTEND;TZID=America/Chicago:20290209T210000
DTSTAMP:20260422T225044
CREATED:20240529T222242Z
LAST-MODIFIED:20240529T222242Z
UID:10003670-1865358000-1865365200@thediveonpatton.com
SUMMARY:FriYAY Bar Bingo!!!
DESCRIPTION:Every Friday is Extreme Bar Bingo\, and your chance to win cash and other prizes! We’ve also got our $6/$8/$10 Pitcher specials all night!
URL:https://thediveonpatton.com/event/friyay-bar-bingo/2029-02-09/
ATTACH;FMTTYPE=image/png:https://thediveonpatton.com/wp-content/uploads/2024/05/Untitled-design_20240529_172150_0000.png
END:VEVENT
BEGIN:VEVENT
DTSTART;TZID=UTC:20290210T220000
DTEND;TZID=UTC:20290211T010000
DTSTAMP:20260422T225044
CREATED:20240529T224607Z
LAST-MODIFIED:20240529T224734Z
UID:10003949-1865455200-1865466000@thediveonpatton.com
SUMMARY:SHOTurday Night and Karaoke!!!
DESCRIPTION:Saturday Nights is time to get singing\, and what better way to warm up those nerves that seltzer and shot specials! Then grace the DOP stage with your favorite rendition of one of your favorite songs!
URL:https://thediveonpatton.com/event/shoturday-night-and-karaoke/2029-02-10/
ATTACH;FMTTYPE=image/png:https://thediveonpatton.com/wp-content/uploads/2024/05/20240117_155829_0000.png
END:VEVENT
BEGIN:VEVENT
DTSTART;TZID=America/Chicago:20290214T180000
DTEND;TZID=America/Chicago:20290215T010000
DTSTAMP:20260422T225044
CREATED:20240124T221024Z
LAST-MODIFIED:20240529T214839Z
UID:10003410-1865786400-1865811600@thediveonpatton.com
SUMMARY:Well Wednesday and Vybes Night!
DESCRIPTION:Come out and enjoy $3 Wells All night\, and enjoy the awesome music of The Vybes! It’s also Jam Session\, so if you play guitar\, drums\, sing\, or whatever\, get up on stage and jam out with The Vybes!
URL:https://thediveonpatton.com/event/wellsday/2029-02-14/
ATTACH;FMTTYPE=image/png:https://thediveonpatton.com/wp-content/uploads/2024/01/Wednesday-Wells_20240117_153139_0000.png
END:VEVENT
BEGIN:VEVENT
DTSTART;TZID=America/Chicago:20290215T213000
DTEND;TZID=America/Chicago:20290215T233000
DTSTAMP:20260422T225044
CREATED:20240109T054649Z
LAST-MODIFIED:20240529T222920Z
UID:10003689-1865885400-1865892600@thediveonpatton.com
SUMMARY:Talk Nerdy To Me with Liquor Pitchers!!!
DESCRIPTION:Talk Nerdy to Me Trivia is now on Thursday nights! Some rounds are general trivia\, some are more for the dirty minded\, all will work your brain a little. And what better way to lubricate your brain\, than with Liquor Pitchers! A massive 48oz pitcher of Long Island\, Margarita\, Sex on the Beach\, or Adios Motherfucker. Balance it out with something from our kitchen or grab something for the Uber home.
URL:https://thediveonpatton.com/event/thursday-2/2029-02-15/
ATTACH;FMTTYPE=image/png:https://thediveonpatton.com/wp-content/uploads/2023/11/20240108_233241_0000.png
END:VEVENT
BEGIN:VEVENT
DTSTART;TZID=America/Chicago:20290216T190000
DTEND;TZID=America/Chicago:20290216T210000
DTSTAMP:20260422T225044
CREATED:20240529T222242Z
LAST-MODIFIED:20240529T222242Z
UID:10003671-1865962800-1865970000@thediveonpatton.com
SUMMARY:FriYAY Bar Bingo!!!
DESCRIPTION:Every Friday is Extreme Bar Bingo\, and your chance to win cash and other prizes! We’ve also got our $6/$8/$10 Pitcher specials all night!
URL:https://thediveonpatton.com/event/friyay-bar-bingo/2029-02-16/
ATTACH;FMTTYPE=image/png:https://thediveonpatton.com/wp-content/uploads/2024/05/Untitled-design_20240529_172150_0000.png
END:VEVENT
BEGIN:VEVENT
DTSTART;TZID=UTC:20290217T220000
DTEND;TZID=UTC:20290218T010000
DTSTAMP:20260422T225044
CREATED:20240529T224607Z
LAST-MODIFIED:20240529T224734Z
UID:10003950-1866060000-1866070800@thediveonpatton.com
SUMMARY:SHOTurday Night and Karaoke!!!
DESCRIPTION:Saturday Nights is time to get singing\, and what better way to warm up those nerves that seltzer and shot specials! Then grace the DOP stage with your favorite rendition of one of your favorite songs!
URL:https://thediveonpatton.com/event/shoturday-night-and-karaoke/2029-02-17/
ATTACH;FMTTYPE=image/png:https://thediveonpatton.com/wp-content/uploads/2024/05/20240117_155829_0000.png
END:VEVENT
BEGIN:VEVENT
DTSTART;TZID=America/Chicago:20290221T180000
DTEND;TZID=America/Chicago:20290222T010000
DTSTAMP:20260422T225044
CREATED:20240124T221024Z
LAST-MODIFIED:20240529T214839Z
UID:10003411-1866391200-1866416400@thediveonpatton.com
SUMMARY:Well Wednesday and Vybes Night!
DESCRIPTION:Come out and enjoy $3 Wells All night\, and enjoy the awesome music of The Vybes! It’s also Jam Session\, so if you play guitar\, drums\, sing\, or whatever\, get up on stage and jam out with The Vybes!
URL:https://thediveonpatton.com/event/wellsday/2029-02-21/
ATTACH;FMTTYPE=image/png:https://thediveonpatton.com/wp-content/uploads/2024/01/Wednesday-Wells_20240117_153139_0000.png
END:VEVENT
BEGIN:VEVENT
DTSTART;TZID=America/Chicago:20290222T213000
DTEND;TZID=America/Chicago:20290222T233000
DTSTAMP:20260422T225044
CREATED:20240109T054649Z
LAST-MODIFIED:20240529T222920Z
UID:10003690-1866490200-1866497400@thediveonpatton.com
SUMMARY:Talk Nerdy To Me with Liquor Pitchers!!!
DESCRIPTION:Talk Nerdy to Me Trivia is now on Thursday nights! Some rounds are general trivia\, some are more for the dirty minded\, all will work your brain a little. And what better way to lubricate your brain\, than with Liquor Pitchers! A massive 48oz pitcher of Long Island\, Margarita\, Sex on the Beach\, or Adios Motherfucker. Balance it out with something from our kitchen or grab something for the Uber home.
URL:https://thediveonpatton.com/event/thursday-2/2029-02-22/
ATTACH;FMTTYPE=image/png:https://thediveonpatton.com/wp-content/uploads/2023/11/20240108_233241_0000.png
END:VEVENT
BEGIN:VEVENT
DTSTART;TZID=America/Chicago:20290223T190000
DTEND;TZID=America/Chicago:20290223T210000
DTSTAMP:20260422T225044
CREATED:20240529T222242Z
LAST-MODIFIED:20240529T222242Z
UID:10003672-1866567600-1866574800@thediveonpatton.com
SUMMARY:FriYAY Bar Bingo!!!
DESCRIPTION:Every Friday is Extreme Bar Bingo\, and your chance to win cash and other prizes! We’ve also got our $6/$8/$10 Pitcher specials all night!
URL:https://thediveonpatton.com/event/friyay-bar-bingo/2029-02-23/
ATTACH;FMTTYPE=image/png:https://thediveonpatton.com/wp-content/uploads/2024/05/Untitled-design_20240529_172150_0000.png
END:VEVENT
BEGIN:VEVENT
DTSTART;TZID=UTC:20290224T220000
DTEND;TZID=UTC:20290225T010000
DTSTAMP:20260422T225044
CREATED:20240529T224607Z
LAST-MODIFIED:20240529T224734Z
UID:10003951-1866664800-1866675600@thediveonpatton.com
SUMMARY:SHOTurday Night and Karaoke!!!
DESCRIPTION:Saturday Nights is time to get singing\, and what better way to warm up those nerves that seltzer and shot specials! Then grace the DOP stage with your favorite rendition of one of your favorite songs!
URL:https://thediveonpatton.com/event/shoturday-night-and-karaoke/2029-02-24/
ATTACH;FMTTYPE=image/png:https://thediveonpatton.com/wp-content/uploads/2024/05/20240117_155829_0000.png
END:VEVENT
BEGIN:VEVENT
DTSTART;TZID=America/Chicago:20290228T180000
DTEND;TZID=America/Chicago:20290301T010000
DTSTAMP:20260422T225044
CREATED:20240124T221024Z
LAST-MODIFIED:20240529T214839Z
UID:10003412-1866996000-1867021200@thediveonpatton.com
SUMMARY:Well Wednesday and Vybes Night!
DESCRIPTION:Come out and enjoy $3 Wells All night\, and enjoy the awesome music of The Vybes! It’s also Jam Session\, so if you play guitar\, drums\, sing\, or whatever\, get up on stage and jam out with The Vybes!
URL:https://thediveonpatton.com/event/wellsday/2029-02-28/
ATTACH;FMTTYPE=image/png:https://thediveonpatton.com/wp-content/uploads/2024/01/Wednesday-Wells_20240117_153139_0000.png
END:VEVENT
BEGIN:VEVENT
DTSTART;TZID=America/Chicago:20290301T213000
DTEND;TZID=America/Chicago:20290301T233000
DTSTAMP:20260422T225044
CREATED:20240109T054649Z
LAST-MODIFIED:20240529T222920Z
UID:10003691-1867095000-1867102200@thediveonpatton.com
SUMMARY:Talk Nerdy To Me with Liquor Pitchers!!!
DESCRIPTION:Talk Nerdy to Me Trivia is now on Thursday nights! Some rounds are general trivia\, some are more for the dirty minded\, all will work your brain a little. And what better way to lubricate your brain\, than with Liquor Pitchers! A massive 48oz pitcher of Long Island\, Margarita\, Sex on the Beach\, or Adios Motherfucker. Balance it out with something from our kitchen or grab something for the Uber home.
URL:https://thediveonpatton.com/event/thursday-2/2029-03-01/
ATTACH;FMTTYPE=image/png:https://thediveonpatton.com/wp-content/uploads/2023/11/20240108_233241_0000.png
END:VEVENT
BEGIN:VEVENT
DTSTART;TZID=America/Chicago:20290302T190000
DTEND;TZID=America/Chicago:20290302T210000
DTSTAMP:20260422T225044
CREATED:20240529T222242Z
LAST-MODIFIED:20240529T222242Z
UID:10003673-1867172400-1867179600@thediveonpatton.com
SUMMARY:FriYAY Bar Bingo!!!
DESCRIPTION:Every Friday is Extreme Bar Bingo\, and your chance to win cash and other prizes! We’ve also got our $6/$8/$10 Pitcher specials all night!
URL:https://thediveonpatton.com/event/friyay-bar-bingo/2029-03-02/
ATTACH;FMTTYPE=image/png:https://thediveonpatton.com/wp-content/uploads/2024/05/Untitled-design_20240529_172150_0000.png
END:VEVENT
BEGIN:VEVENT
DTSTART;TZID=UTC:20290303T220000
DTEND;TZID=UTC:20290304T010000
DTSTAMP:20260422T225044
CREATED:20240529T224607Z
LAST-MODIFIED:20240529T224734Z
UID:10003952-1867269600-1867280400@thediveonpatton.com
SUMMARY:SHOTurday Night and Karaoke!!!
DESCRIPTION:Saturday Nights is time to get singing\, and what better way to warm up those nerves that seltzer and shot specials! Then grace the DOP stage with your favorite rendition of one of your favorite songs!
URL:https://thediveonpatton.com/event/shoturday-night-and-karaoke/2029-03-03/
ATTACH;FMTTYPE=image/png:https://thediveonpatton.com/wp-content/uploads/2024/05/20240117_155829_0000.png
END:VEVENT
BEGIN:VEVENT
DTSTART;TZID=America/Chicago:20290307T180000
DTEND;TZID=America/Chicago:20290308T010000
DTSTAMP:20260422T225044
CREATED:20240124T221024Z
LAST-MODIFIED:20240529T214839Z
UID:10003413-1867600800-1867626000@thediveonpatton.com
SUMMARY:Well Wednesday and Vybes Night!
DESCRIPTION:Come out and enjoy $3 Wells All night\, and enjoy the awesome music of The Vybes! It’s also Jam Session\, so if you play guitar\, drums\, sing\, or whatever\, get up on stage and jam out with The Vybes!
URL:https://thediveonpatton.com/event/wellsday/2029-03-07/
ATTACH;FMTTYPE=image/png:https://thediveonpatton.com/wp-content/uploads/2024/01/Wednesday-Wells_20240117_153139_0000.png
END:VEVENT
BEGIN:VEVENT
DTSTART;TZID=America/Chicago:20290308T213000
DTEND;TZID=America/Chicago:20290308T233000
DTSTAMP:20260422T225044
CREATED:20240109T054649Z
LAST-MODIFIED:20240529T222920Z
UID:10003692-1867699800-1867707000@thediveonpatton.com
SUMMARY:Talk Nerdy To Me with Liquor Pitchers!!!
DESCRIPTION:Talk Nerdy to Me Trivia is now on Thursday nights! Some rounds are general trivia\, some are more for the dirty minded\, all will work your brain a little. And what better way to lubricate your brain\, than with Liquor Pitchers! A massive 48oz pitcher of Long Island\, Margarita\, Sex on the Beach\, or Adios Motherfucker. Balance it out with something from our kitchen or grab something for the Uber home.
URL:https://thediveonpatton.com/event/thursday-2/2029-03-08/
ATTACH;FMTTYPE=image/png:https://thediveonpatton.com/wp-content/uploads/2023/11/20240108_233241_0000.png
END:VEVENT
BEGIN:VEVENT
DTSTART;TZID=America/Chicago:20290309T190000
DTEND;TZID=America/Chicago:20290309T210000
DTSTAMP:20260422T225044
CREATED:20240529T222242Z
LAST-MODIFIED:20240529T222242Z
UID:10003674-1867777200-1867784400@thediveonpatton.com
SUMMARY:FriYAY Bar Bingo!!!
DESCRIPTION:Every Friday is Extreme Bar Bingo\, and your chance to win cash and other prizes! We’ve also got our $6/$8/$10 Pitcher specials all night!
URL:https://thediveonpatton.com/event/friyay-bar-bingo/2029-03-09/
ATTACH;FMTTYPE=image/png:https://thediveonpatton.com/wp-content/uploads/2024/05/Untitled-design_20240529_172150_0000.png
END:VEVENT
BEGIN:VEVENT
DTSTART;TZID=UTC:20290310T220000
DTEND;TZID=UTC:20290311T010000
DTSTAMP:20260422T225044
CREATED:20240529T224607Z
LAST-MODIFIED:20240529T224734Z
UID:10003953-1867874400-1867885200@thediveonpatton.com
SUMMARY:SHOTurday Night and Karaoke!!!
DESCRIPTION:Saturday Nights is time to get singing\, and what better way to warm up those nerves that seltzer and shot specials! Then grace the DOP stage with your favorite rendition of one of your favorite songs!
URL:https://thediveonpatton.com/event/shoturday-night-and-karaoke/2029-03-10/
ATTACH;FMTTYPE=image/png:https://thediveonpatton.com/wp-content/uploads/2024/05/20240117_155829_0000.png
END:VEVENT
END:VCALENDAR