BEGIN:VCALENDAR
VERSION:2.0
PRODID:-//The Dive On Patton - ECPv6.15.20//NONSGML v1.0//EN
CALSCALE:GREGORIAN
METHOD:PUBLISH
X-ORIGINAL-URL:https://thediveonpatton.com
X-WR-CALDESC:Events for The Dive On Patton
REFRESH-INTERVAL;VALUE=DURATION:PT1H
X-Robots-Tag:noindex
X-PUBLISHED-TTL:PT1H
BEGIN:VTIMEZONE
TZID:America/Chicago
BEGIN:DAYLIGHT
TZOFFSETFROM:-0600
TZOFFSETTO:-0500
TZNAME:CDT
DTSTART:20270314T080000
END:DAYLIGHT
BEGIN:STANDARD
TZOFFSETFROM:-0500
TZOFFSETTO:-0600
TZNAME:CST
DTSTART:20271107T070000
END:STANDARD
BEGIN:DAYLIGHT
TZOFFSETFROM:-0600
TZOFFSETTO:-0500
TZNAME:CDT
DTSTART:20280312T080000
END:DAYLIGHT
BEGIN:STANDARD
TZOFFSETFROM:-0500
TZOFFSETTO:-0600
TZNAME:CST
DTSTART:20281105T070000
END:STANDARD
BEGIN:DAYLIGHT
TZOFFSETFROM:-0600
TZOFFSETTO:-0500
TZNAME:CDT
DTSTART:20290311T080000
END:DAYLIGHT
BEGIN:STANDARD
TZOFFSETFROM:-0500
TZOFFSETTO:-0600
TZNAME:CST
DTSTART:20291104T070000
END:STANDARD
END:VTIMEZONE
BEGIN:VTIMEZONE
TZID:UTC
BEGIN:STANDARD
TZOFFSETFROM:+0000
TZOFFSETTO:+0000
TZNAME:UTC
DTSTART:20270101T000000
END:STANDARD
END:VTIMEZONE
BEGIN:VEVENT
DTSTART;TZID=America/Chicago:20280119T180000
DTEND;TZID=America/Chicago:20280120T010000
DTSTAMP:20260421T023635
CREATED:20240124T221024Z
LAST-MODIFIED:20240529T214839Z
UID:10003350-1831917600-1831942800@thediveonpatton.com
SUMMARY:Well Wednesday and Vybes Night!
DESCRIPTION:Come out and enjoy $3 Wells All night\, and enjoy the awesome music of The Vybes! It’s also Jam Session\, so if you play guitar\, drums\, sing\, or whatever\, get up on stage and jam out with The Vybes!
URL:https://thediveonpatton.com/event/wellsday/2028-01-19/
ATTACH;FMTTYPE=image/png:https://thediveonpatton.com/wp-content/uploads/2024/01/Wednesday-Wells_20240117_153139_0000.png
END:VEVENT
BEGIN:VEVENT
DTSTART;TZID=America/Chicago:20280120T213000
DTEND;TZID=America/Chicago:20280120T233000
DTSTAMP:20260421T023635
CREATED:20240109T054649Z
LAST-MODIFIED:20240529T222920Z
UID:10002831-1832016600-1832023800@thediveonpatton.com
SUMMARY:Talk Nerdy To Me with Liquor Pitchers!!!
DESCRIPTION:Talk Nerdy to Me Trivia is now on Thursday nights! Some rounds are general trivia\, some are more for the dirty minded\, all will work your brain a little. And what better way to lubricate your brain\, than with Liquor Pitchers! A massive 48oz pitcher of Long Island\, Margarita\, Sex on the Beach\, or Adios Motherfucker. Balance it out with something from our kitchen or grab something for the Uber home.
URL:https://thediveonpatton.com/event/thursday-2/2028-01-20/
ATTACH;FMTTYPE=image/png:https://thediveonpatton.com/wp-content/uploads/2023/11/20240108_233241_0000.png
END:VEVENT
BEGIN:VEVENT
DTSTART;TZID=America/Chicago:20280121T190000
DTEND;TZID=America/Chicago:20280121T210000
DTSTAMP:20260421T023635
CREATED:20240529T222242Z
LAST-MODIFIED:20240529T222242Z
UID:10003615-1832094000-1832101200@thediveonpatton.com
SUMMARY:FriYAY Bar Bingo!!!
DESCRIPTION:Every Friday is Extreme Bar Bingo\, and your chance to win cash and other prizes! We’ve also got our $6/$8/$10 Pitcher specials all night!
URL:https://thediveonpatton.com/event/friyay-bar-bingo/2028-01-21/
ATTACH;FMTTYPE=image/png:https://thediveonpatton.com/wp-content/uploads/2024/05/Untitled-design_20240529_172150_0000.png
END:VEVENT
BEGIN:VEVENT
DTSTART;TZID=UTC:20280122T220000
DTEND;TZID=UTC:20280123T010000
DTSTAMP:20260421T023635
CREATED:20240529T224607Z
LAST-MODIFIED:20240529T224734Z
UID:10003894-1832191200-1832202000@thediveonpatton.com
SUMMARY:SHOTurday Night and Karaoke!!!
DESCRIPTION:Saturday Nights is time to get singing\, and what better way to warm up those nerves that seltzer and shot specials! Then grace the DOP stage with your favorite rendition of one of your favorite songs!
URL:https://thediveonpatton.com/event/shoturday-night-and-karaoke/2028-01-22/
ATTACH;FMTTYPE=image/png:https://thediveonpatton.com/wp-content/uploads/2024/05/20240117_155829_0000.png
END:VEVENT
BEGIN:VEVENT
DTSTART;TZID=America/Chicago:20280126T180000
DTEND;TZID=America/Chicago:20280127T010000
DTSTAMP:20260421T023635
CREATED:20240124T221024Z
LAST-MODIFIED:20240529T214839Z
UID:10003351-1832522400-1832547600@thediveonpatton.com
SUMMARY:Well Wednesday and Vybes Night!
DESCRIPTION:Come out and enjoy $3 Wells All night\, and enjoy the awesome music of The Vybes! It’s also Jam Session\, so if you play guitar\, drums\, sing\, or whatever\, get up on stage and jam out with The Vybes!
URL:https://thediveonpatton.com/event/wellsday/2028-01-26/
ATTACH;FMTTYPE=image/png:https://thediveonpatton.com/wp-content/uploads/2024/01/Wednesday-Wells_20240117_153139_0000.png
END:VEVENT
BEGIN:VEVENT
DTSTART;TZID=America/Chicago:20280127T213000
DTEND;TZID=America/Chicago:20280127T233000
DTSTAMP:20260421T023635
CREATED:20240109T054649Z
LAST-MODIFIED:20240529T222920Z
UID:10002832-1832621400-1832628600@thediveonpatton.com
SUMMARY:Talk Nerdy To Me with Liquor Pitchers!!!
DESCRIPTION:Talk Nerdy to Me Trivia is now on Thursday nights! Some rounds are general trivia\, some are more for the dirty minded\, all will work your brain a little. And what better way to lubricate your brain\, than with Liquor Pitchers! A massive 48oz pitcher of Long Island\, Margarita\, Sex on the Beach\, or Adios Motherfucker. Balance it out with something from our kitchen or grab something for the Uber home.
URL:https://thediveonpatton.com/event/thursday-2/2028-01-27/
ATTACH;FMTTYPE=image/png:https://thediveonpatton.com/wp-content/uploads/2023/11/20240108_233241_0000.png
END:VEVENT
BEGIN:VEVENT
DTSTART;TZID=America/Chicago:20280128T190000
DTEND;TZID=America/Chicago:20280128T210000
DTSTAMP:20260421T023635
CREATED:20240529T222242Z
LAST-MODIFIED:20240529T222242Z
UID:10003616-1832698800-1832706000@thediveonpatton.com
SUMMARY:FriYAY Bar Bingo!!!
DESCRIPTION:Every Friday is Extreme Bar Bingo\, and your chance to win cash and other prizes! We’ve also got our $6/$8/$10 Pitcher specials all night!
URL:https://thediveonpatton.com/event/friyay-bar-bingo/2028-01-28/
ATTACH;FMTTYPE=image/png:https://thediveonpatton.com/wp-content/uploads/2024/05/Untitled-design_20240529_172150_0000.png
END:VEVENT
BEGIN:VEVENT
DTSTART;TZID=UTC:20280129T220000
DTEND;TZID=UTC:20280130T010000
DTSTAMP:20260421T023635
CREATED:20240529T224607Z
LAST-MODIFIED:20240529T224734Z
UID:10003895-1832796000-1832806800@thediveonpatton.com
SUMMARY:SHOTurday Night and Karaoke!!!
DESCRIPTION:Saturday Nights is time to get singing\, and what better way to warm up those nerves that seltzer and shot specials! Then grace the DOP stage with your favorite rendition of one of your favorite songs!
URL:https://thediveonpatton.com/event/shoturday-night-and-karaoke/2028-01-29/
ATTACH;FMTTYPE=image/png:https://thediveonpatton.com/wp-content/uploads/2024/05/20240117_155829_0000.png
END:VEVENT
BEGIN:VEVENT
DTSTART;TZID=America/Chicago:20280202T180000
DTEND;TZID=America/Chicago:20280203T010000
DTSTAMP:20260421T023635
CREATED:20240124T221024Z
LAST-MODIFIED:20240529T214839Z
UID:10003352-1833127200-1833152400@thediveonpatton.com
SUMMARY:Well Wednesday and Vybes Night!
DESCRIPTION:Come out and enjoy $3 Wells All night\, and enjoy the awesome music of The Vybes! It’s also Jam Session\, so if you play guitar\, drums\, sing\, or whatever\, get up on stage and jam out with The Vybes!
URL:https://thediveonpatton.com/event/wellsday/2028-02-02/
ATTACH;FMTTYPE=image/png:https://thediveonpatton.com/wp-content/uploads/2024/01/Wednesday-Wells_20240117_153139_0000.png
END:VEVENT
BEGIN:VEVENT
DTSTART;TZID=America/Chicago:20280203T213000
DTEND;TZID=America/Chicago:20280203T233000
DTSTAMP:20260421T023635
CREATED:20240109T054649Z
LAST-MODIFIED:20240529T222920Z
UID:10002833-1833226200-1833233400@thediveonpatton.com
SUMMARY:Talk Nerdy To Me with Liquor Pitchers!!!
DESCRIPTION:Talk Nerdy to Me Trivia is now on Thursday nights! Some rounds are general trivia\, some are more for the dirty minded\, all will work your brain a little. And what better way to lubricate your brain\, than with Liquor Pitchers! A massive 48oz pitcher of Long Island\, Margarita\, Sex on the Beach\, or Adios Motherfucker. Balance it out with something from our kitchen or grab something for the Uber home.
URL:https://thediveonpatton.com/event/thursday-2/2028-02-03/
ATTACH;FMTTYPE=image/png:https://thediveonpatton.com/wp-content/uploads/2023/11/20240108_233241_0000.png
END:VEVENT
BEGIN:VEVENT
DTSTART;TZID=America/Chicago:20280204T190000
DTEND;TZID=America/Chicago:20280204T210000
DTSTAMP:20260421T023635
CREATED:20240529T222242Z
LAST-MODIFIED:20240529T222242Z
UID:10003617-1833303600-1833310800@thediveonpatton.com
SUMMARY:FriYAY Bar Bingo!!!
DESCRIPTION:Every Friday is Extreme Bar Bingo\, and your chance to win cash and other prizes! We’ve also got our $6/$8/$10 Pitcher specials all night!
URL:https://thediveonpatton.com/event/friyay-bar-bingo/2028-02-04/
ATTACH;FMTTYPE=image/png:https://thediveonpatton.com/wp-content/uploads/2024/05/Untitled-design_20240529_172150_0000.png
END:VEVENT
BEGIN:VEVENT
DTSTART;TZID=UTC:20280205T220000
DTEND;TZID=UTC:20280206T010000
DTSTAMP:20260421T023635
CREATED:20240529T224607Z
LAST-MODIFIED:20240529T224734Z
UID:10003896-1833400800-1833411600@thediveonpatton.com
SUMMARY:SHOTurday Night and Karaoke!!!
DESCRIPTION:Saturday Nights is time to get singing\, and what better way to warm up those nerves that seltzer and shot specials! Then grace the DOP stage with your favorite rendition of one of your favorite songs!
URL:https://thediveonpatton.com/event/shoturday-night-and-karaoke/2028-02-05/
ATTACH;FMTTYPE=image/png:https://thediveonpatton.com/wp-content/uploads/2024/05/20240117_155829_0000.png
END:VEVENT
BEGIN:VEVENT
DTSTART;TZID=America/Chicago:20280209T180000
DTEND;TZID=America/Chicago:20280210T010000
DTSTAMP:20260421T023635
CREATED:20240124T221024Z
LAST-MODIFIED:20240529T214839Z
UID:10003353-1833732000-1833757200@thediveonpatton.com
SUMMARY:Well Wednesday and Vybes Night!
DESCRIPTION:Come out and enjoy $3 Wells All night\, and enjoy the awesome music of The Vybes! It’s also Jam Session\, so if you play guitar\, drums\, sing\, or whatever\, get up on stage and jam out with The Vybes!
URL:https://thediveonpatton.com/event/wellsday/2028-02-09/
ATTACH;FMTTYPE=image/png:https://thediveonpatton.com/wp-content/uploads/2024/01/Wednesday-Wells_20240117_153139_0000.png
END:VEVENT
BEGIN:VEVENT
DTSTART;TZID=America/Chicago:20280210T213000
DTEND;TZID=America/Chicago:20280210T233000
DTSTAMP:20260421T023635
CREATED:20240109T054649Z
LAST-MODIFIED:20240529T222920Z
UID:10002834-1833831000-1833838200@thediveonpatton.com
SUMMARY:Talk Nerdy To Me with Liquor Pitchers!!!
DESCRIPTION:Talk Nerdy to Me Trivia is now on Thursday nights! Some rounds are general trivia\, some are more for the dirty minded\, all will work your brain a little. And what better way to lubricate your brain\, than with Liquor Pitchers! A massive 48oz pitcher of Long Island\, Margarita\, Sex on the Beach\, or Adios Motherfucker. Balance it out with something from our kitchen or grab something for the Uber home.
URL:https://thediveonpatton.com/event/thursday-2/2028-02-10/
ATTACH;FMTTYPE=image/png:https://thediveonpatton.com/wp-content/uploads/2023/11/20240108_233241_0000.png
END:VEVENT
BEGIN:VEVENT
DTSTART;TZID=America/Chicago:20280211T190000
DTEND;TZID=America/Chicago:20280211T210000
DTSTAMP:20260421T023635
CREATED:20240529T222242Z
LAST-MODIFIED:20240529T222242Z
UID:10003618-1833908400-1833915600@thediveonpatton.com
SUMMARY:FriYAY Bar Bingo!!!
DESCRIPTION:Every Friday is Extreme Bar Bingo\, and your chance to win cash and other prizes! We’ve also got our $6/$8/$10 Pitcher specials all night!
URL:https://thediveonpatton.com/event/friyay-bar-bingo/2028-02-11/
ATTACH;FMTTYPE=image/png:https://thediveonpatton.com/wp-content/uploads/2024/05/Untitled-design_20240529_172150_0000.png
END:VEVENT
BEGIN:VEVENT
DTSTART;TZID=UTC:20280212T220000
DTEND;TZID=UTC:20280213T010000
DTSTAMP:20260421T023635
CREATED:20240529T224607Z
LAST-MODIFIED:20240529T224734Z
UID:10003897-1834005600-1834016400@thediveonpatton.com
SUMMARY:SHOTurday Night and Karaoke!!!
DESCRIPTION:Saturday Nights is time to get singing\, and what better way to warm up those nerves that seltzer and shot specials! Then grace the DOP stage with your favorite rendition of one of your favorite songs!
URL:https://thediveonpatton.com/event/shoturday-night-and-karaoke/2028-02-12/
ATTACH;FMTTYPE=image/png:https://thediveonpatton.com/wp-content/uploads/2024/05/20240117_155829_0000.png
END:VEVENT
BEGIN:VEVENT
DTSTART;TZID=America/Chicago:20280216T180000
DTEND;TZID=America/Chicago:20280217T010000
DTSTAMP:20260421T023635
CREATED:20240124T221024Z
LAST-MODIFIED:20240529T214839Z
UID:10003354-1834336800-1834362000@thediveonpatton.com
SUMMARY:Well Wednesday and Vybes Night!
DESCRIPTION:Come out and enjoy $3 Wells All night\, and enjoy the awesome music of The Vybes! It’s also Jam Session\, so if you play guitar\, drums\, sing\, or whatever\, get up on stage and jam out with The Vybes!
URL:https://thediveonpatton.com/event/wellsday/2028-02-16/
ATTACH;FMTTYPE=image/png:https://thediveonpatton.com/wp-content/uploads/2024/01/Wednesday-Wells_20240117_153139_0000.png
END:VEVENT
BEGIN:VEVENT
DTSTART;TZID=America/Chicago:20280217T213000
DTEND;TZID=America/Chicago:20280217T233000
DTSTAMP:20260421T023635
CREATED:20240109T054649Z
LAST-MODIFIED:20240529T222920Z
UID:10002835-1834435800-1834443000@thediveonpatton.com
SUMMARY:Talk Nerdy To Me with Liquor Pitchers!!!
DESCRIPTION:Talk Nerdy to Me Trivia is now on Thursday nights! Some rounds are general trivia\, some are more for the dirty minded\, all will work your brain a little. And what better way to lubricate your brain\, than with Liquor Pitchers! A massive 48oz pitcher of Long Island\, Margarita\, Sex on the Beach\, or Adios Motherfucker. Balance it out with something from our kitchen or grab something for the Uber home.
URL:https://thediveonpatton.com/event/thursday-2/2028-02-17/
ATTACH;FMTTYPE=image/png:https://thediveonpatton.com/wp-content/uploads/2023/11/20240108_233241_0000.png
END:VEVENT
BEGIN:VEVENT
DTSTART;TZID=America/Chicago:20280218T190000
DTEND;TZID=America/Chicago:20280218T210000
DTSTAMP:20260421T023635
CREATED:20240529T222242Z
LAST-MODIFIED:20240529T222242Z
UID:10003619-1834513200-1834520400@thediveonpatton.com
SUMMARY:FriYAY Bar Bingo!!!
DESCRIPTION:Every Friday is Extreme Bar Bingo\, and your chance to win cash and other prizes! We’ve also got our $6/$8/$10 Pitcher specials all night!
URL:https://thediveonpatton.com/event/friyay-bar-bingo/2028-02-18/
ATTACH;FMTTYPE=image/png:https://thediveonpatton.com/wp-content/uploads/2024/05/Untitled-design_20240529_172150_0000.png
END:VEVENT
BEGIN:VEVENT
DTSTART;TZID=UTC:20280219T220000
DTEND;TZID=UTC:20280220T010000
DTSTAMP:20260421T023635
CREATED:20240529T224607Z
LAST-MODIFIED:20240529T224734Z
UID:10003898-1834610400-1834621200@thediveonpatton.com
SUMMARY:SHOTurday Night and Karaoke!!!
DESCRIPTION:Saturday Nights is time to get singing\, and what better way to warm up those nerves that seltzer and shot specials! Then grace the DOP stage with your favorite rendition of one of your favorite songs!
URL:https://thediveonpatton.com/event/shoturday-night-and-karaoke/2028-02-19/
ATTACH;FMTTYPE=image/png:https://thediveonpatton.com/wp-content/uploads/2024/05/20240117_155829_0000.png
END:VEVENT
BEGIN:VEVENT
DTSTART;TZID=America/Chicago:20280223T180000
DTEND;TZID=America/Chicago:20280224T010000
DTSTAMP:20260421T023635
CREATED:20240124T221024Z
LAST-MODIFIED:20240529T214839Z
UID:10003355-1834941600-1834966800@thediveonpatton.com
SUMMARY:Well Wednesday and Vybes Night!
DESCRIPTION:Come out and enjoy $3 Wells All night\, and enjoy the awesome music of The Vybes! It’s also Jam Session\, so if you play guitar\, drums\, sing\, or whatever\, get up on stage and jam out with The Vybes!
URL:https://thediveonpatton.com/event/wellsday/2028-02-23/
ATTACH;FMTTYPE=image/png:https://thediveonpatton.com/wp-content/uploads/2024/01/Wednesday-Wells_20240117_153139_0000.png
END:VEVENT
BEGIN:VEVENT
DTSTART;TZID=America/Chicago:20280224T213000
DTEND;TZID=America/Chicago:20280224T233000
DTSTAMP:20260421T023635
CREATED:20240109T054649Z
LAST-MODIFIED:20240529T222920Z
UID:10002836-1835040600-1835047800@thediveonpatton.com
SUMMARY:Talk Nerdy To Me with Liquor Pitchers!!!
DESCRIPTION:Talk Nerdy to Me Trivia is now on Thursday nights! Some rounds are general trivia\, some are more for the dirty minded\, all will work your brain a little. And what better way to lubricate your brain\, than with Liquor Pitchers! A massive 48oz pitcher of Long Island\, Margarita\, Sex on the Beach\, or Adios Motherfucker. Balance it out with something from our kitchen or grab something for the Uber home.
URL:https://thediveonpatton.com/event/thursday-2/2028-02-24/
ATTACH;FMTTYPE=image/png:https://thediveonpatton.com/wp-content/uploads/2023/11/20240108_233241_0000.png
END:VEVENT
BEGIN:VEVENT
DTSTART;TZID=America/Chicago:20280225T190000
DTEND;TZID=America/Chicago:20280225T210000
DTSTAMP:20260421T023635
CREATED:20240529T222242Z
LAST-MODIFIED:20240529T222242Z
UID:10003620-1835118000-1835125200@thediveonpatton.com
SUMMARY:FriYAY Bar Bingo!!!
DESCRIPTION:Every Friday is Extreme Bar Bingo\, and your chance to win cash and other prizes! We’ve also got our $6/$8/$10 Pitcher specials all night!
URL:https://thediveonpatton.com/event/friyay-bar-bingo/2028-02-25/
ATTACH;FMTTYPE=image/png:https://thediveonpatton.com/wp-content/uploads/2024/05/Untitled-design_20240529_172150_0000.png
END:VEVENT
BEGIN:VEVENT
DTSTART;TZID=UTC:20280226T220000
DTEND;TZID=UTC:20280227T010000
DTSTAMP:20260421T023635
CREATED:20240529T224607Z
LAST-MODIFIED:20240529T224734Z
UID:10003899-1835215200-1835226000@thediveonpatton.com
SUMMARY:SHOTurday Night and Karaoke!!!
DESCRIPTION:Saturday Nights is time to get singing\, and what better way to warm up those nerves that seltzer and shot specials! Then grace the DOP stage with your favorite rendition of one of your favorite songs!
URL:https://thediveonpatton.com/event/shoturday-night-and-karaoke/2028-02-26/
ATTACH;FMTTYPE=image/png:https://thediveonpatton.com/wp-content/uploads/2024/05/20240117_155829_0000.png
END:VEVENT
BEGIN:VEVENT
DTSTART;TZID=America/Chicago:20280301T180000
DTEND;TZID=America/Chicago:20280302T010000
DTSTAMP:20260421T023635
CREATED:20240124T221024Z
LAST-MODIFIED:20240529T214839Z
UID:10003356-1835546400-1835571600@thediveonpatton.com
SUMMARY:Well Wednesday and Vybes Night!
DESCRIPTION:Come out and enjoy $3 Wells All night\, and enjoy the awesome music of The Vybes! It’s also Jam Session\, so if you play guitar\, drums\, sing\, or whatever\, get up on stage and jam out with The Vybes!
URL:https://thediveonpatton.com/event/wellsday/2028-03-01/
ATTACH;FMTTYPE=image/png:https://thediveonpatton.com/wp-content/uploads/2024/01/Wednesday-Wells_20240117_153139_0000.png
END:VEVENT
BEGIN:VEVENT
DTSTART;TZID=America/Chicago:20280302T213000
DTEND;TZID=America/Chicago:20280302T233000
DTSTAMP:20260421T023635
CREATED:20240109T054649Z
LAST-MODIFIED:20240529T222920Z
UID:10002837-1835645400-1835652600@thediveonpatton.com
SUMMARY:Talk Nerdy To Me with Liquor Pitchers!!!
DESCRIPTION:Talk Nerdy to Me Trivia is now on Thursday nights! Some rounds are general trivia\, some are more for the dirty minded\, all will work your brain a little. And what better way to lubricate your brain\, than with Liquor Pitchers! A massive 48oz pitcher of Long Island\, Margarita\, Sex on the Beach\, or Adios Motherfucker. Balance it out with something from our kitchen or grab something for the Uber home.
URL:https://thediveonpatton.com/event/thursday-2/2028-03-02/
ATTACH;FMTTYPE=image/png:https://thediveonpatton.com/wp-content/uploads/2023/11/20240108_233241_0000.png
END:VEVENT
BEGIN:VEVENT
DTSTART;TZID=America/Chicago:20280303T190000
DTEND;TZID=America/Chicago:20280303T210000
DTSTAMP:20260421T023635
CREATED:20240529T222242Z
LAST-MODIFIED:20240529T222242Z
UID:10003621-1835722800-1835730000@thediveonpatton.com
SUMMARY:FriYAY Bar Bingo!!!
DESCRIPTION:Every Friday is Extreme Bar Bingo\, and your chance to win cash and other prizes! We’ve also got our $6/$8/$10 Pitcher specials all night!
URL:https://thediveonpatton.com/event/friyay-bar-bingo/2028-03-03/
ATTACH;FMTTYPE=image/png:https://thediveonpatton.com/wp-content/uploads/2024/05/Untitled-design_20240529_172150_0000.png
END:VEVENT
BEGIN:VEVENT
DTSTART;TZID=UTC:20280304T220000
DTEND;TZID=UTC:20280305T010000
DTSTAMP:20260421T023635
CREATED:20240529T224607Z
LAST-MODIFIED:20240529T224734Z
UID:10003900-1835820000-1835830800@thediveonpatton.com
SUMMARY:SHOTurday Night and Karaoke!!!
DESCRIPTION:Saturday Nights is time to get singing\, and what better way to warm up those nerves that seltzer and shot specials! Then grace the DOP stage with your favorite rendition of one of your favorite songs!
URL:https://thediveonpatton.com/event/shoturday-night-and-karaoke/2028-03-04/
ATTACH;FMTTYPE=image/png:https://thediveonpatton.com/wp-content/uploads/2024/05/20240117_155829_0000.png
END:VEVENT
BEGIN:VEVENT
DTSTART;TZID=America/Chicago:20280308T180000
DTEND;TZID=America/Chicago:20280309T010000
DTSTAMP:20260421T023635
CREATED:20240124T221024Z
LAST-MODIFIED:20240529T214839Z
UID:10003357-1836151200-1836176400@thediveonpatton.com
SUMMARY:Well Wednesday and Vybes Night!
DESCRIPTION:Come out and enjoy $3 Wells All night\, and enjoy the awesome music of The Vybes! It’s also Jam Session\, so if you play guitar\, drums\, sing\, or whatever\, get up on stage and jam out with The Vybes!
URL:https://thediveonpatton.com/event/wellsday/2028-03-08/
ATTACH;FMTTYPE=image/png:https://thediveonpatton.com/wp-content/uploads/2024/01/Wednesday-Wells_20240117_153139_0000.png
END:VEVENT
BEGIN:VEVENT
DTSTART;TZID=America/Chicago:20280309T213000
DTEND;TZID=America/Chicago:20280309T233000
DTSTAMP:20260421T023635
CREATED:20240109T054649Z
LAST-MODIFIED:20240529T222920Z
UID:10002838-1836250200-1836257400@thediveonpatton.com
SUMMARY:Talk Nerdy To Me with Liquor Pitchers!!!
DESCRIPTION:Talk Nerdy to Me Trivia is now on Thursday nights! Some rounds are general trivia\, some are more for the dirty minded\, all will work your brain a little. And what better way to lubricate your brain\, than with Liquor Pitchers! A massive 48oz pitcher of Long Island\, Margarita\, Sex on the Beach\, or Adios Motherfucker. Balance it out with something from our kitchen or grab something for the Uber home.
URL:https://thediveonpatton.com/event/thursday-2/2028-03-09/
ATTACH;FMTTYPE=image/png:https://thediveonpatton.com/wp-content/uploads/2023/11/20240108_233241_0000.png
END:VEVENT
END:VCALENDAR